Workbook

Sheet Inputs
A1: Parameter | B1: Value
A2: S0 | B2: 65.5
A3: K | B3: 70
A4: i | B4: 0.04
A5: sigma | B5: 0.3
A6: N | B6: 4
A7: tau_days | B7: 60
A8: days_in_year | B8: 365
A9: one | B9: 1
A10: two | B10: 2
A11: zero | B11: =B9-B9 -> 0
A12: half | B12: =B9/B10 -> 0.5
A13: tau_year | B13: =B7/B8 -> 0.16438356
A14: h | B14: =B13/B6 -> 0.04109589
A15: r_factor | B15: =POWER(B9+B4,B14) -> 1.0016131
A16: u | B16: =EXP(B5*SQRT(B14)) -> 1.0627037
A17: d | B17: =B9/B16 -> 0.94099602
A18: pi | B18: =(B15-B17)/(B16-B17) -> 0.49805456

Sheet Stock Option Tree
B1: STOCK B TREE | I1: PUT B TREE
C2: =Inputs!B9-Inputs!B9 -> 0 | D2: =C2+Inputs!B9 -> 1 | E2: =D2+Inputs!B9 -> 2 | F2: =E2+Inputs!B9 -> 3 | G2: =F2+Inputs!B9 -> 4 | I2: ='Stock Option Tree'!C2 -> 0 | J2: ='Stock Option Tree'!D2 -> 1 | K2: ='Stock Option Tree'!E2 -> 2 | L2: ='Stock Option Tree'!F2 -> 3 | M2: ='Stock Option Tree'!G2 -> 4
B3: =Inputs!B9-Inputs!B9 -> 0 | C3: =Inputs!B2 -> 65.5 | D3: =C3*Inputs!B17 -> 61.63524 | E3: =D3*Inputs!B17 -> 57.998515 | F3: =E3*Inputs!B17 -> 54.576372 | G3: =F3*Inputs!B17 -> 51.35615 | I3: =MAX(((Inputs!B18*'Stock Option Tree'!J4) + ((Inputs!B9-Inputs!B18)*'Stock Option Tree'!J3))/Inputs!B15,Inputs!B3-'Stock Option Tree'!C3) -> 5.9415036 | J3: =MAX(((Inputs!B18*'Stock Option Tree'!K4) + ((Inputs!B9-Inputs!B18)*'Stock Option Tree'!K3))/Inputs!B15,Inputs!B3-'Stock Option Tree'!D3) -> 8.6564169 | K3: =MAX(((Inputs!B18*'Stock Option Tree'!L4) + ((Inputs!B9-Inputs!B18)*'Stock Option Tree'!L3))/Inputs!B15,Inputs!B3-'Stock Option Tree'!E3) -> 12.001485 | L3: =MAX(((Inputs!B18*'Stock Option Tree'!M4) + ((Inputs!B9-Inputs!B18)*'Stock Option Tree'!M3))/Inputs!B15,Inputs!B3-'Stock Option Tree'!F3) -> 15.423628 | M3: =MAX(Inputs!B3-G3,Inputs!B11) -> 18.64385
B4: =B3+Inputs!B9 -> 1 | D4: =C3*Inputs!B16 -> 69.607095 | E4: =D3*Inputs!B16 -> 65.5 | F4: =E3*Inputs!B16 -> 61.63524 | G4: =F3*Inputs!B16 -> 57.998515 | J4: =MAX(((Inputs!B18*'Stock Option Tree'!K5) + ((Inputs!B9-Inputs!B18)*'Stock Option Tree'!K4))/Inputs!B15,Inputs!B3-'Stock Option Tree'!D4) -> 3.2246245 | K4: =MAX(((Inputs!B18*'Stock Option Tree'!L5) + ((Inputs!B9-Inputs!B18)*'Stock Option Tree'!L4))/Inputs!B15,Inputs!B3-'Stock Option Tree'!E4) -> 5.3132537 | L4: =MAX(((Inputs!B18*'Stock Option Tree'!M5) + ((Inputs!B9-Inputs!B18)*'Stock Option Tree'!M4))/Inputs!B15,Inputs!B3-'Stock Option Tree'!F4) -> 8.3647604 | M4: =MAX(Inputs!B3-G4,Inputs!B11) -> 12.001485
B5: =B4+Inputs!B9 -> 2 | E5: =D4*Inputs!B16 -> 73.971721 | F5: =E4*Inputs!B16 -> 69.607095 | G5: =F4*Inputs!B16 -> 65.5 | K5: =MAX(((Inputs!B18*'Stock Option Tree'!L6) + ((Inputs!B9-Inputs!B18)*'Stock Option Tree'!L5))/Inputs!B15,Inputs!B3-'Stock Option Tree'!E5) -> 1.1301226 | L5: =MAX(((Inputs!B18*'Stock Option Tree'!M6) + ((Inputs!B9-Inputs!B18)*'Stock Option Tree'!M5))/Inputs!B15,Inputs!B3-'Stock Option Tree'!F5) -> 2.2551167 | M5: =MAX(Inputs!B3-G5,Inputs!B11) -> 4.5
B6: =B5+Inputs!B9 -> 3 | F6: =E5*Inputs!B16 -> 78.610025 | G6: =F5*Inputs!B16 -> 73.971721 | L6: =MAX(((Inputs!B18*'Stock Option Tree'!M7) + ((Inputs!B9-Inputs!B18)*'Stock Option Tree'!M6))/Inputs!B15,Inputs!B3-'Stock Option Tree'!F6) -> 0 | M6: =MAX(Inputs!B3-G6,Inputs!B11) -> 0
B7: =B6+Inputs!B9 -> 4 | G7: =F6*Inputs!B16 -> 83.539168 | M7: =MAX(Inputs!B3-G7,Inputs!B11) -> 0

Sheet Replicating Portfolio
A1: j/index | B1: =Inputs!B9-Inputs!B9 -> 0 | C1: =B1+Inputs!B9 -> 1 | D1: =C1+Inputs!B9 -> 2 | E1: =D1+Inputs!B9 -> 3 | H1: =Inputs!B9-Inputs!B9 -> 0 | I1: =H1+Inputs!B9 -> 1 | J1: =I1+Inputs!B9 -> 2 | K1: =J1+Inputs!B9 -> 3 | N1: =Inputs!B9-Inputs!B9 -> 0 | O1: =N1+Inputs!B9 -> 1 | P1: =O1+Inputs!B9 -> 2 | Q1: =P1+Inputs!B9 -> 3
A2: =Inputs!B9-Inputs!B9 -> 0 | B2: =('Stock Option Tree'!J4-'Stock Option Tree'!J3)/('Stock Option Tree'!C3*(Inputs!B16-Inputs!B17)) -> -0.68137114 | C2: =('Stock Option Tree'!K4-'Stock Option Tree'!K3)/('Stock Option Tree'!D3*(Inputs!B16-Inputs!B17)) -> -0.89158764 | D2: =('Stock Option Tree'!L4-'Stock Option Tree'!L3)/('Stock Option Tree'!E3*(Inputs!B16-Inputs!B17)) -> -1 | E2: =('Stock Option Tree'!M4-'Stock Option Tree'!M3)/('Stock Option Tree'!F3*(Inputs!B16-Inputs!B17)) -> -1 | H2: =(Inputs!B17*'Stock Option Tree'!J4 - Inputs!B16*'Stock Option Tree'!J3)/(Inputs!B15*(Inputs!B16-Inputs!B17)) -> -50.571313 | I2: =(Inputs!B17*'Stock Option Tree'!K4 - Inputs!B16*'Stock Option Tree'!K3)/(Inputs!B15*(Inputs!B16-Inputs!B17)) -> -63.609635 | J2: =(Inputs!B17*'Stock Option Tree'!L4 - Inputs!B16*'Stock Option Tree'!L3)/(Inputs!B15*(Inputs!B16-Inputs!B17)) -> -69.887264 | K2: =(Inputs!B17*'Stock Option Tree'!M4 - Inputs!B16*'Stock Option Tree'!M3)/(Inputs!B15*(Inputs!B16-Inputs!B17)) -> -69.887264 | N2: =B2*'Stock Option Tree'!C3-H2 -> 5.9415036 | O2: =C2*'Stock Option Tree'!D3-I2 -> 8.6564169 | P2: =D2*'Stock Option Tree'!E3-J2 -> 11.888749 | Q2: =E2*'Stock Option Tree'!F3-K2 -> 15.310892
A3: =A2+Inputs!B9 -> 1 | C3: =('Stock Option Tree'!K5-'Stock Option Tree'!K4)/('Stock Option Tree'!D4*(Inputs!B16-Inputs!B17)) -> -0.49377584 | D3: =('Stock Option Tree'!L5-'Stock Option Tree'!L4)/('Stock Option Tree'!E4*(Inputs!B16-Inputs!B17)) -> -0.76640168 | E3: =('Stock Option Tree'!M5-'Stock Option Tree'!M4)/('Stock Option Tree'!F4*(Inputs!B16-Inputs!B17)) -> -1 | I3: =(Inputs!B17*'Stock Option Tree'!K5 - Inputs!B16*'Stock Option Tree'!K4)/(Inputs!B15*(Inputs!B16-Inputs!B17)) -> -37.594926 | J3: =(Inputs!B17*'Stock Option Tree'!L5 - Inputs!B16*'Stock Option Tree'!L4)/(Inputs!B15*(Inputs!B16-Inputs!B17)) -> -55.512564 | K3: =(Inputs!B17*'Stock Option Tree'!M5 - Inputs!B16*'Stock Option Tree'!M4)/(Inputs!B15*(Inputs!B16-Inputs!B17)) -> -69.887264 | O3: =C3*'Stock Option Tree'!D4-I3 -> 3.2246245 | P3: =D3*'Stock Option Tree'!E4-J3 -> 5.3132537 | Q3: =E3*'Stock Option Tree'!F4-K3 -> 8.2520246
A4: =A3+Inputs!B9 -> 2 | D4: =('Stock Option Tree'!L6-'Stock Option Tree'!L5)/('Stock Option Tree'!E5*(Inputs!B16-Inputs!B17)) -> -0.25048699 | E4: =('Stock Option Tree'!M6-'Stock Option Tree'!M5)/('Stock Option Tree'!F5*(Inputs!B16-Inputs!B17)) -> -0.53117897 | J4: =(Inputs!B17*'Stock Option Tree'!L6 - Inputs!B16*'Stock Option Tree'!L5)/(Inputs!B15*(Inputs!B16-Inputs!B17)) -> -19.659076 | K4: =(Inputs!B17*'Stock Option Tree'!M6 - Inputs!B16*'Stock Option Tree'!M5)/(Inputs!B15*(Inputs!B16-Inputs!B17)) -> -39.228942 | P4: =D4*'Stock Option Tree'!E5-J4 -> 1.1301226 | Q4: =E4*'Stock Option Tree'!F5-K4 -> 2.2551167
A5: =A4+Inputs!B9 -> 3 | E5: =('Stock Option Tree'!M7-'Stock Option Tree'!M6)/('Stock Option Tree'!F6*(Inputs!B16-Inputs!B17)) -> 0 | K5: =(Inputs!B17*'Stock Option Tree'!M7 - Inputs!B16*'Stock Option Tree'!M6)/(Inputs!B15*(Inputs!B16-Inputs!B17)) -> 0 | Q5: =E5*'Stock Option Tree'!F6-K5 -> 0

Sheet Black Scholes
A1: Description | B1: Formula/Value
A2: r_year_factor | B2: =(1+B8)^B19 -> 1.0064681
A3: Present value of strike PV(K) | B3: =B7/B2 -> 69.550145
A4: d1 | B4: =(LN(B6/B3)+B17*POWER(B9,B15)*B19)/(B9*SQRT(B19)) -> -0.43245432
A5: d2 | B5: =B4-B9*SQRT(B19) -> -0.55408705
A6: S0 | B6: 65.5
A7: K | B7: 70
A8: Risk-free interest rate i (annual) | B8: 0.04
A9: sigma | B9: 0.3
A10: N | B10: 4
A11: Time to expiration (Tau days) | B11: 60
A12: days_in_year | B12: 365
A14: one | B14: 1
A15: two | B15: 2
A16: zero | B16: =B14-B14 -> 0
A17: half | B17: =B14/B15 -> 0.5
A19: Time to expiration (tau, years) | B19: =B11/B12 -> 0.16438356
A20: h | B20: =B19/B10 -> 0.04109589
A21: R-Hat | B21: =(1+B8)^B20 -> 1.0016131
A22: u | B22: =EXP(B9*SQRT(B20)) -> 1.0627037
A23: d | B23: =B14/B22 -> 0.94099602
A24: pi | B24: =(B21-B23)/(B22-B23) -> 0.49805456
A26: European Call | B26: =B6*_xlfn.NORM.S.DIST(B4,TRUE)-B3*_xlfn.NORM.S.DIST(B5,TRUE) -> 1.6393936
A27: European Put via parity | B27: =B26-B6+B3 -> 5.6895385
A28: American Put (Binomial) | B28: ='Stock Option Tree'!I3 -> 5.9415036
A29: Difference (Euro - American) | B29: =B28-B27 -> 0.25196518
