Workbook

Sheet Financial Summary
C2: Income, balance sheet and cash flow
C3: Historical portfolio analysis; original dates, assumptions and units retained
C4: Author: Eshan Mukherjee
D6: ='P&L, BS, CF Summary'!B3 -> YEAR-2023 | E6: ='P&L, BS, CF Summary'!C3 -> YEAR-2024 | F6: ='P&L, BS, CF Summary'!D3 -> YEAR-2025 | G6: ='P&L, BS, CF Summary'!E3 -> YEAR-2026 | H6: ='P&L, BS, CF Summary'!F3 -> YEAR-2027 | I6: ='P&L, BS, CF Summary'!G3 -> YEAR-2028
C8: Income statement, original currency and units
C9: Revenue | D9: =IF(ISNUMBER('P&L, BS, CF Summary'!B8),'P&L, BS, CF Summary'!B8,"Unavailable") -> Unavailable | E9: =IF(ISNUMBER('P&L, BS, CF Summary'!C8),'P&L, BS, CF Summary'!C8,"Unavailable") -> 78487 | F9: =IF(ISNUMBER('P&L, BS, CF Summary'!D8),'P&L, BS, CF Summary'!D8,"Unavailable") -> 469755 | G9: =IF(ISNUMBER('P&L, BS, CF Summary'!E8),'P&L, BS, CF Summary'!E8,"Unavailable") -> 23366182 | H9: =IF(ISNUMBER('P&L, BS, CF Summary'!F8),'P&L, BS, CF Summary'!F8,"Unavailable") -> 48595011 | I9: =IF(ISNUMBER('P&L, BS, CF Summary'!G8),'P&L, BS, CF Summary'!G8,"Unavailable") -> 83925154
C10: cost of sales | D10: =IF(ISNUMBER('P&L, BS, CF Summary'!B18),'P&L, BS, CF Summary'!B18,"Unavailable") -> Unavailable | E10: =IF(ISNUMBER('P&L, BS, CF Summary'!C18),'P&L, BS, CF Summary'!C18,"Unavailable") -> 2016 | F10: =IF(ISNUMBER('P&L, BS, CF Summary'!D18),'P&L, BS, CF Summary'!D18,"Unavailable") -> 15426 | G10: =IF(ISNUMBER('P&L, BS, CF Summary'!E18),'P&L, BS, CF Summary'!E18,"Unavailable") -> 444440 | H10: =IF(ISNUMBER('P&L, BS, CF Summary'!F18),'P&L, BS, CF Summary'!F18,"Unavailable") -> 1169036 | I10: =IF(ISNUMBER('P&L, BS, CF Summary'!G18),'P&L, BS, CF Summary'!G18,"Unavailable") -> 2392699
C11: Gross profit | D11: =IF(ISNUMBER('P&L, BS, CF Summary'!B20),'P&L, BS, CF Summary'!B20,"Unavailable") -> Unavailable | E11: =IF(ISNUMBER('P&L, BS, CF Summary'!C20),'P&L, BS, CF Summary'!C20,"Unavailable") -> 76471 | F11: =IF(ISNUMBER('P&L, BS, CF Summary'!D20),'P&L, BS, CF Summary'!D20,"Unavailable") -> 454329 | G11: =IF(ISNUMBER('P&L, BS, CF Summary'!E20),'P&L, BS, CF Summary'!E20,"Unavailable") -> 22921743 | H11: =IF(ISNUMBER('P&L, BS, CF Summary'!F20),'P&L, BS, CF Summary'!F20,"Unavailable") -> 45877075 | I11: =IF(ISNUMBER('P&L, BS, CF Summary'!G20),'P&L, BS, CF Summary'!G20,"Unavailable") -> 78764856
C12: Net profit | D12: =IF(ISNUMBER('P&L, BS, CF Summary'!B72),'P&L, BS, CF Summary'!B72,"Unavailable") -> -222532 | E12: =IF(ISNUMBER('P&L, BS, CF Summary'!C72),'P&L, BS, CF Summary'!C72,"Unavailable") -> -410657 | F12: =IF(ISNUMBER('P&L, BS, CF Summary'!D72),'P&L, BS, CF Summary'!D72,"Unavailable") -> -170961 | G12: =IF(ISNUMBER('P&L, BS, CF Summary'!E72),'P&L, BS, CF Summary'!E72,"Unavailable") -> 17059106 | H12: =IF(ISNUMBER('P&L, BS, CF Summary'!F72),'P&L, BS, CF Summary'!F72,"Unavailable") -> 34829212 | I12: =IF(ISNUMBER('P&L, BS, CF Summary'!G72),'P&L, BS, CF Summary'!G72,"Unavailable") -> 60628682
C15: Balance sheet
C17: Cash / bank | D17: =IF(ISNUMBER('P&L, BS, CF Summary'!B92),'P&L, BS, CF Summary'!B92,"Unavailable") -> -590251 | E17: =IF(ISNUMBER('P&L, BS, CF Summary'!C92),'P&L, BS, CF Summary'!C92,"Unavailable") -> -418523 | F17: =IF(ISNUMBER('P&L, BS, CF Summary'!D92),'P&L, BS, CF Summary'!D92,"Unavailable") -> -639054 | G17: =IF(ISNUMBER('P&L, BS, CF Summary'!E92),'P&L, BS, CF Summary'!E92,"Unavailable") -> 12550829 | H17: =IF(ISNUMBER('P&L, BS, CF Summary'!F92),'P&L, BS, CF Summary'!F92,"Unavailable") -> 47040952 | I17: =IF(ISNUMBER('P&L, BS, CF Summary'!G92),'P&L, BS, CF Summary'!G92,"Unavailable") -> 113680432
C18: Total assets | D18: =IF(ISNUMBER('P&L, BS, CF Summary'!B95),'P&L, BS, CF Summary'!B95,"Unavailable") -> Unavailable | E18: =IF(ISNUMBER('P&L, BS, CF Summary'!C95),'P&L, BS, CF Summary'!C95,"Unavailable") -> -411336 | F18: =IF(ISNUMBER('P&L, BS, CF Summary'!D95),'P&L, BS, CF Summary'!D95,"Unavailable") -> -605335 | G18: =IF(ISNUMBER('P&L, BS, CF Summary'!E95),'P&L, BS, CF Summary'!E95,"Unavailable") -> 13284738 | H18: =IF(ISNUMBER('P&L, BS, CF Summary'!F95),'P&L, BS, CF Summary'!F95,"Unavailable") -> 48143722 | I18: =IF(ISNUMBER('P&L, BS, CF Summary'!G95),'P&L, BS, CF Summary'!G95,"Unavailable") -> 115479775
C19: Total liabilities | D19: =IF(ISNUMBER('P&L, BS, CF Summary'!B108),'P&L, BS, CF Summary'!B108,"Unavailable") -> 14940 | E19: =IF(ISNUMBER('P&L, BS, CF Summary'!C108),'P&L, BS, CF Summary'!C108,"Unavailable") -> 20270 | F19: =IF(ISNUMBER('P&L, BS, CF Summary'!D108),'P&L, BS, CF Summary'!D108,"Unavailable") -> 29512 | G19: =IF(ISNUMBER('P&L, BS, CF Summary'!E108),'P&L, BS, CF Summary'!E108,"Unavailable") -> 72069 | H19: =IF(ISNUMBER('P&L, BS, CF Summary'!F108),'P&L, BS, CF Summary'!F108,"Unavailable") -> 101841 | I19: =IF(ISNUMBER('P&L, BS, CF Summary'!G108),'P&L, BS, CF Summary'!G108,"Unavailable") -> 141156
C20: Owner equity | D20: =IF(ISNUMBER('P&L, BS, CF Summary'!B116),'P&L, BS, CF Summary'!B116,"Unavailable") -> -218999 | E20: =IF(ISNUMBER('P&L, BS, CF Summary'!C116),'P&L, BS, CF Summary'!C116,"Unavailable") -> -431606 | F20: =IF(ISNUMBER('P&L, BS, CF Summary'!D116),'P&L, BS, CF Summary'!D116,"Unavailable") -> -634847 | G20: =IF(ISNUMBER('P&L, BS, CF Summary'!E116),'P&L, BS, CF Summary'!E116,"Unavailable") -> 13212670 | H20: =IF(ISNUMBER('P&L, BS, CF Summary'!F116),'P&L, BS, CF Summary'!F116,"Unavailable") -> 48041881 | I20: =IF(ISNUMBER('P&L, BS, CF Summary'!G116),'P&L, BS, CF Summary'!G116,"Unavailable") -> 115338619
C21: Original balance-sheet difference | D21: =IF(COUNT(D18:D20)=3,D18-D19-D20,"Unavailable") -> Unavailable | E21: =IF(COUNT(E18:E20)=3,E18-E19-E20,"Unavailable") -> 0 | F21: =IF(COUNT(F18:F20)=3,F18-F19-F20,"Unavailable") -> 0 | G21: =IF(COUNT(G18:G20)=3,G18-G19-G20,"Unavailable") -> -1 | H21: =IF(COUNT(H18:H20)=3,H18-H19-H20,"Unavailable") -> 0 | I21: =IF(COUNT(I18:I20)=3,I18-I19-I20,"Unavailable") -> 0
C24: Cash flow
C26: Operating cash flow | D26: =IF(ISNUMBER('P&L, BS, CF Summary'!B133),'P&L, BS, CF Summary'!B133,"Unavailable") -> -373916 | E26: =IF(ISNUMBER('P&L, BS, CF Summary'!C133),'P&L, BS, CF Summary'!C133,"Unavailable") -> -387059 | F26: =IF(ISNUMBER('P&L, BS, CF Summary'!D133),'P&L, BS, CF Summary'!D133,"Unavailable") -> -250638 | G26: =IF(ISNUMBER('P&L, BS, CF Summary'!E133),'P&L, BS, CF Summary'!E133,"Unavailable") -> 13189882 | H26: =IF(ISNUMBER('P&L, BS, CF Summary'!F133),'P&L, BS, CF Summary'!F133,"Unavailable") -> 34490123 | I26: =IF(ISNUMBER('P&L, BS, CF Summary'!G133),'P&L, BS, CF Summary'!G133,"Unavailable") -> 66751507
C27: Net cash flow | D27: =IF(ISNUMBER('P&L, BS, CF Summary'!B142),'P&L, BS, CF Summary'!B142,"Unavailable") -> -373915 | E27: =IF(ISNUMBER('P&L, BS, CF Summary'!C142),'P&L, BS, CF Summary'!C142,"Unavailable") -> -387059 | F27: =IF(ISNUMBER('P&L, BS, CF Summary'!D142),'P&L, BS, CF Summary'!D142,"Unavailable") -> -250638 | G27: =IF(ISNUMBER('P&L, BS, CF Summary'!E142),'P&L, BS, CF Summary'!E142,"Unavailable") -> 13189882 | H27: =IF(ISNUMBER('P&L, BS, CF Summary'!F142),'P&L, BS, CF Summary'!F142,"Unavailable") -> 34490123 | I27: =IF(ISNUMBER('P&L, BS, CF Summary'!G142),'P&L, BS, CF Summary'!G142,"Unavailable") -> 66639480
C28: Opening cash flow | D28: =IF(ISNUMBER('P&L, BS, CF Summary'!B143),'P&L, BS, CF Summary'!B143,"Unavailable") -> -175839 | E28: =IF(ISNUMBER('P&L, BS, CF Summary'!C143),'P&L, BS, CF Summary'!C143,"Unavailable") -> -388416 | F28: =IF(ISNUMBER('P&L, BS, CF Summary'!D143),'P&L, BS, CF Summary'!D143,"Unavailable") -> -672659 | G28: =IF(ISNUMBER('P&L, BS, CF Summary'!E143),'P&L, BS, CF Summary'!E143,"Unavailable") -> 10012004 | H28: =IF(ISNUMBER('P&L, BS, CF Summary'!F143),'P&L, BS, CF Summary'!F143,"Unavailable") -> 43113466 | I28: =IF(ISNUMBER('P&L, BS, CF Summary'!G143),'P&L, BS, CF Summary'!G143,"Unavailable") -> 107120654
C29: Closing cash flow | D29: =IF(ISNUMBER('P&L, BS, CF Summary'!B145),'P&L, BS, CF Summary'!B145,"Unavailable") -> -549754 | E29: =IF(ISNUMBER('P&L, BS, CF Summary'!C145),'P&L, BS, CF Summary'!C145,"Unavailable") -> -775475 | F29: =IF(ISNUMBER('P&L, BS, CF Summary'!D145),'P&L, BS, CF Summary'!D145,"Unavailable") -> -923296 | G29: =IF(ISNUMBER('P&L, BS, CF Summary'!E145),'P&L, BS, CF Summary'!E145,"Unavailable") -> 23201886 | H29: =IF(ISNUMBER('P&L, BS, CF Summary'!F145),'P&L, BS, CF Summary'!F145,"Unavailable") -> 77603589 | I29: =IF(ISNUMBER('P&L, BS, CF Summary'!G145),'P&L, BS, CF Summary'!G145,"Unavailable") -> 173760134
C30: Original closing cash less cash / bank | D30: =D29-D17 -> 40497 | E30: =E29-E17 -> -356952 | F30: =F29-F17 -> -284242 | G30: =G29-G17 -> 10651057 | H30: =H29-H17 -> 30562637 | I30: =I29-I17 -> 60079702
C35: This historical startup model contains differences between cash-flow closing balances and balance-sheet cash. Those original differences remain visible and are not filled with invented data.
C38: Original forecasts, user counts, pricing, staffing assumptions and historical dates are preserved.

Sheet P&L, BS, CF Summary
B3: YEAR-2023 | C3: YEAR-2024 | D3: YEAR-2025 | E3: YEAR-2026 | F3: YEAR-2027 | G3: YEAR-2028
A4: INCOME STATEMENT
A6: No. of Active Users | B6: - | C6: 14 | D6: 58 | E6: 525 | F6: 933 | G6: 1537
A8: Revenue | B8: - | C8: 78487 | D8: 469755 | E8: 23366182 | F8: 48595011 | G8: 83925154
A10: Gross Revenue | B10: - | C10: 78487 | D10: 469755 | E10: 23366182 | F10: 48595011 | G10: 83925154
A12: cost OF SALES
A14: Cloud Hosting | B14: - | C14: 39 | D14: 235 | E14: 11683 | F14: 24298 | G14: 41963
A15: Credit Card Fee | B15: - | C15: 1177 | D15: 7046 | E15: 350493 | F15: 728925 | G15: 1258877
A16: Computing cost | B16: - | C16: 800 | D16: 8145 | E16: 82264 | F16: 415813 | G16: 1091859
D17: - | E17: -
A18: Total cost of Sales | B18: - | C18: 2016 | D18: 15426 | E18: 444440 | F18: 1169036 | G18: 2392699
A20: Gross Profit | B20: - | C20: 76471 | D20: 454329 | E20: 22921743 | F20: 45877075 | G20: 78764856
A22: Operating Expenses:
A23: Management Team:
A24: CEO | B24: - | C24: - | D24: 35000 | E24: 138000 | F24: 156000 | G24: 174000
A25: CMO | B25: - | C25: - | D25: 35000 | E25: 83000 | F25: 110400 | G25: 124800
A26: CTO | B26: - | C26: - | D26: 35000 | E26: 95840 | F26: 135720 | G26: 149760
A27: Lead Machine language engineer | B27: 31500 | C27: 63000 | D27: 63000 | E27: 105000 | F27: 120750 | G27: 136500
A28: Lead front end full stack developer | B28: 31500 | C28: 63000 | D28: 94500 | E28: 120750 | F28: 136500 | G28: 152250
A29: Senior systems engineer | B29: 52500 | C29: 63000 | D29: 94500 | E29: 120750 | F29: 136500 | G29: 152250
A30: Engineers X1 | B30: 25500 | C30: 51000 | D30: 34000 | E30: 89604 | F30: 110500 | G30: 123250
A31: Engineers X2 | B31: 25500 | C31: 51000 | D31: 19833 | E31: 57021 | F31: 110500 | G31: 123250
A32: Engineers X3 | B32: 25500 | C32: 42500 | D32: 19833 | E32: - | F32: - | G32: -
A33: Engineers X4 | B33: 21250 | C33: 38250 | D33: 8146 | E33: - | F33: - | G33: -
A34: Engineers X5 | B34: - | C34: 34000 | D34: 8146 | E34: - | F34: - | G34: -
A35: Engineers X6 | B35: - | C35: 8500 | D35: 8146 | E35: - | F35: - | G35: -
A36: Internal Marketing team X1 | B36: - | C36: - | D36: - | E36: - | F36: - | G36: -
A37: Internal Marketing team X2 | B37: - | C37: - | D37: - | E37: - | F37: - | G37: -
A38: Sales Team X1 | B38: - | C38: - | D38: 37375 | E38: 84500 | F38: 94250 | G38: 104000
A39: Sales Team X2 | B39: - | C39: - | D39: 12458 | E39: 84500 | F39: 94250 | G39: 104000
A40: Sales Team X3 | B40: - | C40: - | D40: 12458 | E40: 84500 | F40: 94250 | G40: 104000
A41: Sales Team X4 | B41: - | C41: - | D41: - | E41: 77458 | F41: 94250 | G41: 104000
A42: Customer Support | B42: - | C42: - | D42: - | E42: 49292 | F42: 94250 | G42: 104000
A43: Customer Support | B43: - | C43: - | D43: - | E43: 42250 | F43: 94250 | G43: 104000
A44: Add Additional Employee | B44: - | D44: - | E44: - | F44: 94250 | G44: 104000
A45: Add Additional Employee | B45: - | D45: - | E45: - | F45: 78542 | G45: 104000
A47: Other Operating Expenses:
A48: Rent | B48: 2250 | C48: 44400 | D48: 53858 | E48: 61979 | F48: 65078 | G48: 68332
A49: Utilities | B49: - | C49: - | D49: - | E49: - | F49: - | G49: -
A50: Professional services | B50: 3500 | C50: - | D50: - | E50: - | F50: - | G50: -
...

Sheet Revenue & Subs Summary
E5: REVENUE SUMMARY
B8: Revenue From Professional | C8: YEAR-2023 | D8: YEAR-2024 | E8: YEAR-2025 | F8: YEAR-2026 | G8: YEAR-2027 | H8: YEAR-2028 | J8: Subscriptions from Professional | M8: YEAR-2023 | N8: YEAR-2024 | O8: YEAR-2025 | P8: YEAR-2026 | Q8: YEAR-2027 | R8: YEAR-2028
B9: Revenue Monthly Users | C9: - | D9: 4056 | E9: 17537 | F9: 55778 | G9: 125431 | H9: 204996 | J9: Subscriptions Monthly Users | M9: - | N9: 7 | O9: 23 | P9: 65 | Q9: 117 | R9: 165
B10: Revenue Annual - Users | C10: - | D10: 1641 | E10: 5495 | F10: 17991 | G10: 40425 | H10: 65988 | J10: Subscriptions - Users | M10: - | N10: 3 | O10: 10 | P10: 28 | Q10: 49 | R10: 71
C11: - | D11: 5696 | E11: 23032 | F11: 73769 | G11: 165856 | H11: 270985 | M11: - | N11: 10 | O11: 33 | P11: 93 | Q11: 166 | R11: 235
B12: Revenue From Team
B13: Revenue Monthly Users | C13: - | D13: 7571 | E13: 143690 | F13: 1342965 | G13: 7268536 | H13: 18185288 | J13: Subscriptions From Team
B14: Revenue Annual - Users | C14: - | D14: - | E14: 9303 | F14: 81700 | G14: 264022 | H14: 443284 | J14: Subscriptions - Monthly Users: | M14: - | N14: 3 | O14: 13 | P14: 128 | Q14: 230 | R14: 368
C15: - | D15: 7571 | E15: 152993 | F15: 1424665 | G15: 7532558 | H15: 18628572 | J15: Subscriptions Annual - Users | M15: - | N15: 1 | O15: 5 | P15: 55 | Q15: 99 | R15: 158
B16: Revenue From Enterprise | M16: - | N16: 4 | O16: 18 | P16: 183 | Q16: 329 | R16: 526
B17: Small Enterprise Subscription | C17: - | D17: - | E17: 114000 | F17: 4440000 | G17: 12438000 | H17: 18342000 | J17: Subscriptions From Enterprise
B18: True Enterprise Subscription | C18: - | D18: - | E18: 36000 | F18: 2961000 | G18: 8109000 | H18: 11934000 | J18: Small Enterprise Subscription | M18: - | N18: - | O18: 1 | P18: 29 | Q18: 14 | R18: 25
C19: - | D19: - | E19: 150000 | F19: 7401000 | G19: 20547000 | H19: 30276000 | J19: True Enterprise Subscription | M19: - | N19: - | O19: 1 | P19: 13 | Q19: 6 | R19: 11
B20: Revenue from TSE | C20: - | D20: 65220 | E20: 143730 | F20: 366748 | G20: 249598 | H20: 99598 | M20: - | N20: - | O20: 2 | P20: 42 | Q20: 20 | R20: 36
B21: Revenue from GCP Enterprise Marketplace | C21: - | D21: - | E21: - | F21: 14100000 | G21: 20100000 | H21: 34650000 | J21: Subscriptions From TSE product | M21: - | N21: 1
J22: Subscriptions From GCP Enterprise Marketplace | N22: - | O22: - | P22: 94 | Q22: 151 | R22: 303
B24: Total Revenue | C24: - | D24: 78487 | E24: 469755 | F24: 23366182 | G24: 48595011 | H24: 83925154 | J24: Total Subscriptiopns | M24: - | N24: 15 | O24: 53 | P24: 412 | Q24: 666 | R24: 1101
C27: 45739 | D27: 45770 | E27: 45800 | F27: 45831 | G27: 45861 | H27: 45892 | I27: 45923 | J27: 45953 | K27: 45984 | L27: 46014 | M27: 45681 | N27: 45712 | O27: 45740 | P27: 45771 | Q27: 45801 | R27: 45832 | S27: 45862 | T27: 45893 | U27: 45924 | V27: 45954 | W27: 45985 | X27: 46015 | Y27: 45682 | Z27: 45713 | AA27: 45741 | AB27: 45772 | AC27: 45802 | AD27: 45833 | AE27: 45863 | AF27: 45894 | AG27: 45925 | AH27: 45955 | AI27: 45986 | AJ27: 46016 | AK27: 45683 | AL27: 45714 | AM27: 45742 | AN27: 45773 | AO27: 45803 | AP27: 45834 | AQ27: 45864 | AR27: 45895 | AS27: 45926 | AT27: 45956 | AU27: 45987 | AV27: 46017 | AW27: 45684 | AX27: 45715 | AY27: 45743 | AZ27: 45774 | BA27: 45804 | BB27: 45835 | BC27: 45865 | BD27: 45896 | BE27: 45927 | BF27: 45957 | BG27: 45988 | BH27: 46018 | BI27: 45685 | BJ27: 45716 | BK27: 45744 | BL27: 45775 | BM27: 45805 | BN27: 45836 | BO27: 45866 | BP27: 45897 | BQ27: 45928 | BR27: 45958 | BS27: 45989 | BT27: 46019
B28: Revenue From Professional
B29: Revenue Monthly Users | C29: - | D29: - | E29: - | F29: - | G29: - | H29: - | I29: - | J29: - | K29: - | L29: - | M29: 100 | N29: 99 | O29: 99 | P29: 99 | Q29: 199 | R29: 197 | S29: 297 | T29: 396 | U29: 495 | V29: 693 | W29: 691 | X29: 691 | Y29: 830 | Z29: 829 | AA29: 934 | AB29: 1038 | AC29: 1141 | AD29: 1350 | AE29: 1452 | AF29: 1661 | AG29: 1763 | AH29: 1972 | AI29: 2179 | AJ29: 2386 | AK29: 2723 | AL29: 3051 | AM29: 3268 | AN29: 3595 | AO29: 3922 | AP29: 4248 | AQ29: 4685 | AR29: 5010 | AS29: 5557 | AT29: 5991 | AU29: 6536 | AV29: 7191 | AW29: 7889 | AX29: 8232 | AY29: 8690 | AZ29: 9147 | BA29: 9605 | BB29: 10062 | BC29: 10519 | BD29: 11092 | BE29: 11663 | BF29: 12234 | BG29: 12806 | BH29: 13493 | BI29: 14410 | BJ29: 14890 | BK29: 15367 | BL29: 15721 | BM29: 16200 | BN29: 16798 | BO29: 17271 | BP29: 17748 | BQ29: 18345 | BR29: 18819 | BS29: 19417 | BT29: 20012
B30: Revenue Annual - Users | C30: - | D30: - | E30: - | F30: - | G30: - | H30: - | I30: - | J30: - | K30: - | L30: - | M30: - | N30: - | O30: - | P30: 100 | Q30: 99 | R30: 98 | S30: 96 | T30: 195 | U30: 193 | V30: 290 | W30: 287 | X30: 283 | Y30: 221 | Z30: 297 | AA30: 293 | AB30: 290 | AC30: 365 | AD30: 439 | AE30: 434 | AF30: 508 | AG30: 545 | AH30: 623 | AI30: 701 | AJ30: 779 | AK30: 900 | AL30: 981 | AM30: 1063 | AN30: 1145 | AO30: 1226 | AP30: 1391 | AQ30: 1471 | AR30: 1636 | AS30: 1799 | AT30: 1963 | AU30: 2126 | AV30: 2289 | AW30: 2489 | AX30: 2661 | AY30: 2833 | AZ30: 2918 | BA30: 3090 | BB30: 3262 | BC30: 3433 | BD30: 3605 | BE30: 3776 | BF30: 3948 | BG30: 4120 | BH30: 4291 | BI30: 4650 | BJ30: 4829 | BK30: 4917 | BL30: 5097 | BM30: 5185 | BN30: 5365 | BO30: 5544 | BP30: 5723 | BQ30: 5901 | BR30: 6080 | BS30: 6259 | BT30: 6438
B31: Revenue From Team
B32: Revenue Monthly Users | C32: - | D32: - | E32: - | F32: - | G32: - | H32: - | I32: - | J32: - | K32: - | L32: - | M32: 330 | N32: 326 | O32: 322 | P32: 318 | Q32: 314 | R32: 641 | S32: 633 | T32: 625 | U32: 618 | V32: 940 | W32: 1259 | X32: 1244 | Y32: 2261 | Z32: 3204 | AA32: 4378 | AB32: 5780 | AC32: 7409 | AD32: 9260 | AE32: 11332 | AF32: 13621 | AG32: 16368 | AH32: 19567 | AI32: 23212 | AJ32: 27299 | AK32: 33923 | AL32: 40391 | AM32: 48310 | AN32: 57917 | AO32: 69445 | AP32: 83382 | AQ32: 100207 | AR32: 120650 | AS32: 145432 | AT32: 175518 | AU32: 211865 | AV32: 255924 | AW32: 301785 | AX32: 349542 | AY32: 399295 | AZ32: 451148 | BA32: 505211 | BB32: 561600 | BC32: 620434 | BD32: 681840 | BE32: 745953 | BF32: 812911 | BG32: 882861 | BH32: 955956 | BI32: 1031523 | BJ32: 1109663 | BK32: 1190487 | BL32: 1274107 | BM32: 1360640 | BN32: 1450206 | BO32: 1542934 | BP32: 1638955 | BQ32: 1738404 | BR32: 1841425 | BS32: 1948165 | BT32: 2058778
B33: Revenue Annual - Users | C33: - | D33: - | E33: - | F33: - | G33: - | H33: - | I33: - | J33: - | K33: - | L33: - | M33: - | N33: - | O33: - | P33: - | Q33: - | R33: - | S33: - | T33: - | U33: - | V33: - | W33: - | X33: - | Y33: 333 | Z33: 329 | AA33: 412 | AB33: 494 | AC33: 576 | AD33: 658 | AE33: 740 | AF33: 823 | AG33: 988 | AH33: 1152 | AI33: 1317 | AJ33: 1481 | AK33: 1902 | AL33: 2335 | AM33: 2853 | AN33: 3458 | AO33: 4149 | AP33: 5014 | AQ33: 6052 | AR33: 7349 | AS33: 8905 | AT33: 10807 | AU33: 13054 | AV33: 15821 | AW33: 16587 | AX33: 17417 | AY33: 18288 | AZ33: 19202 | BA33: 20162 | BB33: 21170 | BC33: 22229 | BD33: 23340 | BE33: 24507 | BF33: 25732 | BG33: 27019 | BH33: 28370 | BI33: 29501 | BJ33: 30682 | BK33: 31909 | BL33: 33185 | BM33: 34513 | BN33: 35893 | BO33: 37329 | BP33: 38822 | BQ33: 40375 | BR33: 41990 | BS33: 43669 | BT33: 45416
B34: Revenue From Enterprise
B35: Small Enterprise Subscription | C35: - | D35: - | E35: - | F35: - | G35: - | H35: - | I35: - | J35: - | K35: - | L35: - | M35: - | N35: - | O35: - | P35: - | Q35: - | R35: - | S35: - | T35: - | U35: - | V35: - | W35: - | X35: - | Y35: - | Z35: - | AA35: - | AB35: - | AC35: - | AD35: - | AE35: 6000 | AF35: 6000 | AG35: 12000 | AH35: 24000 | AI35: 30000 | AJ35: 36000 | AK35: 48000 | AL35: 72000 | AM35: 108000 | AN35: 156000 | AO35: 216000 | AP35: 288000 | AQ35: 348000 | AR35: 420000 | AS35: 510000 | AT35: 618000 | AU35: 750000 | AV35: 906000 | AW35: 918000 | AX35: 930000 | AY35: 948000 | AZ35: 966000 | BA35: 990000 | BB35: 1014000 | BC35: 1038000 | BD35: 1062000 | BE35: 1092000 | BF35: 1128000 | BG35: 1158000 | BH35: 1194000 | BI35: 1236000 | BJ35: 1278000 | BK35: 1320000 | BL35: 1368000 | BM35: 1422000 | BN35: 1482000 | BO35: 1542000 | BP35: 1602000 | BQ35: 1668000 | BR35: 1734000 | BS35: 1806000 | BT35: 1884000
B36: True Enterprise Subscription | C36: - | D36: - | E36: - | F36: - | G36: - | H36: - | I36: - | J36: - | K36: - | L36: - | M36: - | N36: - | O36: - | P36: - | Q36: - | R36: - | S36: - | T36: - | U36: - | V36: - | W36: - | X36: - | Y36: - | Z36: - | AA36: - | AB36: - | AC36: - | AD36: - | AE36: - | AF36: - | AG36: - | AH36: 9000 | AI36: 9000 | AJ36: 18000 | AK36: 27000 | AL36: 45000 | AM36: 72000 | AN36: 108000 | AO36: 153000 | AP36: 198000 | AQ36: 243000 | AR36: 288000 | AS36: 342000 | AT36: 405000 | AU36: 486000 | AV36: 594000 | AW36: 603000 | AX36: 612000 | AY36: 621000 | AZ36: 630000 | BA36: 639000 | BB36: 657000 | BC36: 675000 | BD36: 693000 | BE36: 711000 | BF36: 729000 | BG36: 756000 | BH36: 783000 | BI36: 810000 | BJ36: 837000 | BK36: 864000 | BL36: 891000 | BM36: 927000 | BN36: 963000 | BO36: 999000 | BP36: 1044000 | BQ36: 1080000 | BR36: 1125000 | BS36: 1170000 | BT36: 1224000
B37: Revenue from TSE | C37: - | D37: - | E37: - | F37: - | G37: - | H37: - | I37: - | J37: - | K37: - | L37: - | M37: - | N37: - | O37: - | P37: - | Q37: - | R37: - | S37: - | T37: - | U37: - | V37: - | W37: 65220 | X37: - | Y37: - | Z37: - | AA37: 35150 | AB37: - | AC37: - | AD37: - | AE37: - | AF37: - | AG37: - | AH37: - | AI37: 54290 | AJ37: 54290 | AK37: 97790 | AL37: 20830 | AM37: 27530 | AN37: 41700 | AO37: 8300 | AP37: 45800 | AQ37: 8300 | AR37: 8300 | AS37: 45800 | AT37: 8300 | AU37: 8300 | AV37: 45800 | AW37: 8300 | AX37: 45800 | AY37: 8300 | AZ37: 45800 | BA37: 8300 | BB37: 45800 | BC37: 8300 | BD37: 45800 | BE37: 8300 | BF37: 8300 | BG37: 8300 | BH37: 8300 | BI37: 8300 | BJ37: 8300 | BK37: 8300 | BL37: 8300 | BM37: 8300 | BN37: 8300 | BO37: 8300 | BP37: 8300 | BQ37: 8300 | BR37: 8300 | BS37: 8300 | BT37: 8300
B38: Revenue from GCP Enterprise Marketplace | C38: - | D38: - | E38: - | F38: - | G38: - | H38: - | I38: - | J38: - | K38: - | L38: - | M38: - | N38: - | O38: - | P38: - | Q38: - | R38: - | S38: - | T38: - | U38: - | V38: - | W38: - | X38: - | Y38: - | Z38: - | AA38: - | AB38: - | AC38: - | AD38: - | AE38: - | AF38: - | AG38: - | AH38: - | AI38: - | AJ38: - | AK38: - | AL38: 600000 | AM38: 600000 | AN38: 750000 | AO38: 900000 | AP38: 1050000 | AQ38: 1200000 | AR38: 1350000 | AS38: 1350000 | AT38: 1650000 | AU38: 2100000 | AV38: 2550000 | AW38: 600000 | AX38: 600000 | AY38: 1200000 | AZ38: 1200000 | BA38: 1350000 | BB38: 1650000 | BC38: 1800000 | BD38: 1950000 | BE38: 2100000 | BF38: 2100000 | BG38: 2550000 | BH38: 3000000 | BI38: 4095000 | BJ38: 2205000 | BK38: 2205000 | BL38: 2362500 | BM38: 2362500 | BN38: 2520000 | BO38: 2835000 | BP38: 2992500 | BQ38: 2992500 | BR38: 3150000 | BS38: 3307500 | BT38: 3622500
B41: Total Revenue | C41: - | D41: - | E41: - | F41: - | G41: - | H41: - | I41: - | J41: - | K41: - | L41: - | M41: 430 | N41: 425 | O41: 421 | P41: 517 | Q41: 612 | R41: 936 | S41: 1027 | T41: 1216 | U41: 1305 | V41: 1924 | W41: 67457 | X41: 2218 | Y41: 3644 | Z41: 4658 | AA41: 41167 | AB41: 7602 | AC41: 9491 | AD41: 11708 | AE41: 19959 | AF41: 22612 | AG41: 31664 | AH41: 56314 | AI41: 120699 | AJ41: 140236 | AK41: 212238 | AL41: 784589 | AM41: 863024 | AN41: 1121815 | AO41: 1356043 | AP41: 1675835 | AQ41: 1911715 | AR41: 2200945 | AS41: 2409493 | AT41: 2875579 | AU41: 3577882 | AV41: 4377026 | AW41: 2458050 | AX41: 2565652 | AY41: 3206405 | AZ41: 3324215 | BA41: 3525368 | BB41: 3962893 | BC41: 4177914 | BD41: 4470677 | BE41: 4697199 | BF41: 4820125 | BG41: 5399105 | BH41: 5987410 | BI41: 7229383 | BJ41: 5488364 | BK41: 5639979 | BL41: 5957911 | BM41: 6136337 | BN41: 6481562 | BO41: 6987378 | BP41: 7348047 | BQ41: 7551826 | BR41: 7925614 | BS41: 8309310 | BT41: 8869443
C45: 45739 | D45: 45770 | E45: 45800 | F45: 45831 | G45: 45861 | H45: 45892 | I45: 45923 | J45: 45953 | K45: 45984 | L45: 46014 | M45: 45681 | N45: 45712 | O45: 45740 | P45: 45771 | Q45: 45801 | R45: 45832 | S45: 45862 | T45: 45893 | U45: 45924 | V45: 45954 | W45: 45985 | X45: 46015 | Y45: 45682 | Z45: 45713 | AA45: 45741 | AB45: 45772 | AC45: 45802 | AD45: 45833 | AE45: 45863 | AF45: 45894 | AG45: 45925 | AH45: 45955 | AI45: 45986 | AJ45: 46016 | AK45: 45683 | AL45: 45714 | AM45: 45742 | AN45: 45773 | AO45: 45803 | AP45: 45834 | AQ45: 45864 | AR45: 45895 | AS45: 45926 | AT45: 45956 | AU45: 45987 | AV45: 46017 | AW45: 45684 | AX45: 45715 | AY45: 45743 | AZ45: 45774 | BA45: 45804 | BB45: 45835 | BC45: 45865 | BD45: 45896 | BE45: 45927 | BF45: 45957 | BG45: 45988 | BH45: 46018 | BI45: 45685 | BJ45: 45716 | BK45: 45744 | BL45: 45775 | BM45: 45805 | BN45: 45836 | BO45: 45866 | BP45: 45897 | BQ45: 45928 | BR45: 45958 | BS45: 45989 | BT45: 46019
B46: Subscriptions from Professional | C46: - | D46: - | E46: - | F46: - | G46: - | H46: - | I46: - | J46: - | K46: - | L46: - | M46: 1 | N46: 1 | O46: 1 | P46: 2 | Q46: 3 | R46: 3 | S46: 4 | T46: 6 | U46: 7 | V46: 10 | W46: 10 | X46: 10 | Y46: 11 | Z46: 12 | AA46: 13 | AB46: 14 | AC46: 16 | AD46: 18 | AE46: 19 | AF46: 22 | AG46: 24 | AH46: 27 | AI46: 30 | AJ46: 33 | AK46: 36 | AL46: 40 | AM46: 43 | AN46: 46 | AO46: 50 | AP46: 55 | AQ46: 60 | AR46: 65 | AS46: 72 | AT46: 78 | AU46: 85 | AV46: 93 | AW46: 97 | AX46: 102 | AY46: 108 | AZ46: 113 | BA46: 119 | BB46: 125 | BC46: 131 | BD46: 137 | BE46: 144 | BF46: 151 | BG46: 158 | BH46: 166 | BI46: 170 | BJ46: 176 | BK46: 180 | BL46: 185 | BM46: 190 | BN46: 197 | BO46: 203 | BP46: 209 | BQ46: 216 | BR46: 222 | BS46: 229 | BT46: 235
B47: Subscriptions Monthly Users | C47: - | D47: - | E47: - | F47: - | G47: - | H47: - | I47: - | J47: - | K47: - | L47: - | M47: 1 | N47: 1 | O47: 1 | P47: 1 | Q47: 2 | R47: 2 | S47: 3 | T47: 4 | U47: 5 | V47: 7 | W47: 7 | X47: 7 | Y47: 8 | Z47: 8 | AA47: 9 | AB47: 10 | AC47: 11 | AD47: 13 | AE47: 14 | AF47: 16 | AG47: 17 | AH47: 19 | AI47: 21 | AJ47: 23 | AK47: 25 | AL47: 28 | AM47: 30 | AN47: 33 | AO47: 36 | AP47: 39 | AQ47: 43 | AR47: 45 | AS47: 50 | AT47: 54 | AU47: 59 | AV47: 65 | AW47: 68 | AX47: 71 | AY47: 75 | AZ47: 79 | BA47: 83 | BB47: 87 | BC47: 91 | BD47: 96 | BE47: 101 | BF47: 106 | BG47: 111 | BH47: 117 | BI47: 119 | BJ47: 123 | BK47: 127 | BL47: 129 | BM47: 133 | BN47: 138 | BO47: 142 | BP47: 146 | BQ47: 151 | BR47: 155 | BS47: 160 | BT47: 165
B48: Subscriptions - Users | C48: - | D48: - | E48: - | F48: - | G48: - | H48: - | I48: - | J48: - | K48: - | L48: - | M48: - | N48: - | O48: - | P48: 1 | Q48: 1 | R48: 1 | S48: 1 | T48: 2 | U48: 2 | V48: 3 | W48: 3 | X48: 3 | Y48: 3 | Z48: 4 | AA48: 4 | AB48: 4 | AC48: 5 | AD48: 6 | AE48: 6 | AF48: 6 | AG48: 7 | AH48: 8 | AI48: 9 | AJ48: 10 | AK48: 11 | AL48: 12 | AM48: 13 | AN48: 14 | AO48: 15 | AP48: 17 | AQ48: 18 | AR48: 20 | AS48: 22 | AT48: 24 | AU48: 26 | AV48: 28 | AW48: 29 | AX48: 31 | AY48: 33 | AZ48: 34 | BA48: 36 | BB48: 38 | BC48: 40 | BD48: 42 | BE48: 44 | BF48: 45 | BG48: 47 | BH48: 49 | BI48: 51 | BJ48: 53 | BK48: 54 | BL48: 56 | BM48: 57 | BN48: 59 | BO48: 61 | BP48: 63 | BQ48: 65 | BR48: 67 | BS48: 69 | BT48: 71
B49: Subscriptions From Team | C49: - | D49: - | E49: - | F49: - | G49: - | H49: - | I49: - | J49: - | K49: - | L49: - | M49: 1 | N49: 1 | O49: 1 | P49: 2 | Q49: 2 | R49: 2 | S49: 2 | T49: 2 | U49: 2 | V49: 3 | W49: 4 | X49: 4 | Y49: 4 | Z49: 4 | AA49: 5 | AB49: 6 | AC49: 7 | AD49: 8 | AE49: 9 | AF49: 10 | AG49: 12 | AH49: 14 | AI49: 16 | AJ49: 18 | AK49: 22 | AL49: 27 | AM49: 33 | AN49: 40 | AO49: 48 | AP49: 58 | AQ49: 70 | AR49: 85 | AS49: 103 | AT49: 125 | AU49: 151 | AV49: 183 | AW49: 192 | AX49: 202 | AY49: 212 | AZ49: 222 | BA49: 234 | BB49: 245 | BC49: 257 | BD49: 270 | BE49: 284 | BF49: 298 | BG49: 313 | BH49: 329 | BI49: 342 | BJ49: 355 | BK49: 370 | BL49: 384 | BM49: 400 | BN49: 416 | BO49: 432 | BP49: 450 | BQ49: 468 | BR49: 486 | BS49: 506 | BT49: 526
B50: Subscriptions Monthly Users | C50: - | D50: - | E50: - | F50: - | G50: - | H50: - | I50: - | J50: - | K50: - | L50: - | M50: 1 | N50: 1 | O50: 1 | P50: 1 | Q50: 1 | R50: 1 | S50: 1 | T50: 1 | U50: 1 | V50: 2 | W50: 3 | X50: 3 | Y50: 3 | Z50: 3 | AA50: 4 | AB50: 4 | AC50: 5 | AD50: 6 | AE50: 6 | AF50: 7 | AG50: 8 | AH50: 10 | AI50: 11 | AJ50: 13 | AK50: 15 | AL50: 19 | AM50: 23 | AN50: 28 | AO50: 34 | AP50: 41 | AQ50: 49 | AR50: 60 | AS50: 72 | AT50: 88 | AU50: 106 | AV50: 128 | AW50: 135 | AX50: 141 | AY50: 148 | AZ50: 156 | BA50: 163 | BB50: 172 | BC50: 180 | BD50: 189 | BE50: 199 | BF50: 209 | BG50: 219 | BH50: 230 | BI50: 239 | BJ50: 249 | BK50: 259 | BL50: 269 | BM50: 280 | BN50: 291 | BO50: 303 | BP50: 315 | BQ50: 327 | BR50: 341 | BS50: 354 | BT50: 368
B51: Subscriptions Annual - Users | C51: - | D51: - | E51: - | F51: - | G51: - | H51: - | I51: - | J51: - | K51: - | L51: - | M51: - | N51: - | O51: - | P51: 1 | Q51: 1 | R51: 1 | S51: 1 | T51: 1 | U51: 1 | V51: 1 | W51: 1 | X51: 1 | Y51: 1 | Z51: 1 | AA51: 2 | AB51: 2 | AC51: 2 | AD51: 2 | AE51: 3 | AF51: 3 | AG51: 4 | AH51: 4 | AI51: 5 | AJ51: 5 | AK51: 7 | AL51: 8 | AM51: 10 | AN51: 12 | AO51: 14 | AP51: 17 | AQ51: 21 | AR51: 26 | AS51: 31 | AT51: 38 | AU51: 45 | AV51: 55 | AW51: 58 | AX51: 61 | AY51: 64 | AZ51: 67 | BA51: 70 | BB51: 74 | BC51: 77 | BD51: 81 | BE51: 85 | BF51: 89 | BG51: 94 | BH51: 99 | BI51: 103 | BJ51: 107 | BK51: 111 | BL51: 115 | BM51: 120 | BN51: 125 | BO51: 130 | BP51: 135 | BQ51: 140 | BR51: 146 | BS51: 152 | BT51: 158
B52: Subscriptions From Enterprise | C52: - | D52: - | E52: - | F52: - | G52: - | H52: - | I52: - | J52: - | K52: - | L52: - | M52: - | N52: - | O52: - | P52: - | Q52: - | R52: - | S52: - | T52: - | U52: - | V52: - | W52: - | X52: - | Y52: - | Z52: - | AA52: - | AB52: - | AC52: - | AD52: - | AE52: 1 | AF52: - | AG52: - | AH52: 3 | AI52: 1 | AJ52: 2 | AK52: 3 | AL52: 6 | AM52: 9 | AN52: 12 | AO52: 16 | AP52: 18 | AQ52: 16 | AR52: 19 | AS52: 23 | AT52: 28 | AU52: 34 | AV52: 42 | AW52: 12 | AX52: 12 | AY52: 13 | AZ52: 13 | BA52: 14 | BB52: 16 | BC52: 16 | BD52: 16 | BE52: 17 | BF52: 18 | BG52: 19 | BH52: 20 | BI52: 21 | BJ52: 22 | BK52: 23 | BL52: 24 | BM52: 26 | BN52: 27 | BO52: 28 | BP52: 29 | BQ52: 31 | BR52: 32 | BS52: 34 | BT52: 36
B53: Small Enterprise Subscription | C53: - | D53: - | E53: - | F53: - | G53: - | H53: - | I53: - | J53: - | K53: - | L53: - | M53: - | N53: - | O53: - | P53: - | Q53: - | R53: - | S53: - | T53: - | U53: - | V53: - | W53: - | X53: - | Y53: - | Z53: - | AA53: - | AB53: - | AC53: - | AD53: - | AE53: 1 | AF53: - | AG53: - | AH53: 2 | AI53: 1 | AJ53: 1 | AK53: 2 | AL53: 4 | AM53: 6 | AN53: 8 | AO53: 11 | AP53: 13 | AQ53: 11 | AR53: 13 | AS53: 16 | AT53: 20 | AU53: 24 | AV53: 29 | AW53: 8 | AX53: 8 | AY53: 9 | AZ53: 9 | BA53: 10 | BB53: 11 | BC53: 11 | BD53: 11 | BE53: 12 | BF53: 13 | BG53: 13 | BH53: 14 | BI53: 15 | BJ53: 15 | BK53: 16 | BL53: 17 | BM53: 18 | BN53: 19 | BO53: 20 | BP53: 20 | BQ53: 22 | BR53: 22 | BS53: 24 | BT53: 25
B54: True Enterprise Subscription | C54: - | D54: - | E54: - | F54: - | G54: - | H54: - | I54: - | J54: - | K54: - | L54: - | M54: - | N54: - | O54: - | P54: - | Q54: - | R54: - | S54: - | T54: - | U54: - | V54: - | W54: - | X54: - | Y54: - | Z54: - | AA54: - | AB54: - | AC54: - | AD54: - | AE54: - | AF54: - | AG54: - | AH54: 1 | AI54: - | AJ54: 1 | AK54: 1 | AL54: 2 | AM54: 3 | AN54: 4 | AO54: 5 | AP54: 5 | AQ54: 5 | AR54: 6 | AS54: 7 | AT54: 8 | AU54: 10 | AV54: 13 | AW54: 4 | AX54: 4 | AY54: 4 | AZ54: 4 | BA54: 4 | BB54: 5 | BC54: 5 | BD54: 5 | BE54: 5 | BF54: 5 | BG54: 6 | BH54: 6 | BI54: 6 | BJ54: 7 | BK54: 7 | BL54: 7 | BM54: 8 | BN54: 8 | BO54: 8 | BP54: 9 | BQ54: 9 | BR54: 10 | BS54: 10 | BT54: 11
...

Sheet Opex
B5: 45739 | C5: 45770 | D5: 45800 | E5: 45831 | F5: 45861 | G5: 45892 | H5: 45923 | I5: 45953 | J5: 45984 | K5: 46014 | L5: 45681 | M5: 45712 | N5: 45740 | O5: 45771 | P5: 45801 | Q5: 45832 | R5: 45862 | S5: 45893 | T5: 45924 | U5: 45954 | V5: 45985 | W5: 46015 | X5: 45682 | Y5: 45713 | Z5: 45741 | AA5: 45772 | AB5: 45802 | AC5: 45833 | AD5: 45863 | AE5: 45894 | AF5: 45925 | AG5: 45955 | AH5: 45986 | AI5: 46016 | AJ5: 45683 | AK5: 45714 | AL5: 45742 | AM5: 45773 | AN5: 45803 | AO5: 45834 | AP5: 45864 | AQ5: 45895 | AR5: 45926 | AS5: 45956 | AT5: 45987 | AU5: 46017 | AV5: 45684 | AW5: 45715 | AX5: 45743 | AY5: 45774 | AZ5: 45804 | BA5: 45835 | BB5: 45865 | BC5: 45896 | BD5: 45927 | BE5: 45957 | BF5: 45988 | BG5: 46018 | BH5: 45685 | BI5: 45716 | BJ5: 45744 | BK5: 45775 | BL5: 45805 | BM5: 45836 | BN5: 45866 | BO5: 45897 | BP5: 45928 | BQ5: 45958 | BR5: 45989 | BS5: 46019
A6: Operating Expenses Headcount
A8: Management Team:
A10: Headcount
A11: CEO | B11: - | C11: - | D11: - | E11: - | F11: - | G11: - | H11: - | I11: - | J11: - | K11: - | L11: - | M11: - | N11: - | O11: - | P11: - | Q11: - | R11: - | S11: - | T11: - | U11: - | V11: - | W11: - | X11: - | Y11: - | Z11: - | AA11: - | AB11: - | AC11: - | AD11: 1 | AE11: 1 | AF11: 1 | AG11: 1 | AH11: 1 | AI11: 1 | AJ11: 1 | AK11: 1 | AL11: 1 | AM11: 1 | AN11: 1 | AO11: 1 | AP11: 1 | AQ11: 1 | AR11: 1 | AS11: 1 | AT11: 1 | AU11: 1 | AV11: 1 | AW11: 1 | AX11: 1 | AY11: 1 | AZ11: 1 | BA11: 1 | BB11: 1 | BC11: 1 | BD11: 1 | BE11: 1 | BF11: 1 | BG11: 1 | BH11: 1 | BI11: 1 | BJ11: 1 | BK11: 1 | BL11: 1 | BM11: 1 | BN11: 1 | BO11: 1 | BP11: 1 | BQ11: 1 | BR11: 1 | BS11: 1
A12: CMO | B12: - | C12: - | D12: - | E12: - | F12: - | G12: - | H12: - | I12: - | J12: - | K12: - | L12: - | M12: - | N12: - | O12: - | P12: - | Q12: - | R12: - | S12: - | T12: - | U12: - | V12: - | W12: - | X12: - | Y12: - | Z12: - | AA12: - | AB12: - | AC12: - | AD12: 1 | AE12: 1 | AF12: 1 | AG12: 1 | AH12: 1 | AI12: 1 | AJ12: 1 | AK12: 1 | AL12: 1 | AM12: 1 | AN12: 1 | AO12: 1 | AP12: 1 | AQ12: 1 | AR12: 1 | AS12: 1 | AT12: 1 | AU12: 1 | AV12: 1 | AW12: 1 | AX12: 1 | AY12: 1 | AZ12: 1 | BA12: 1 | BB12: 1 | BC12: 1 | BD12: 1 | BE12: 1 | BF12: 1 | BG12: 1 | BH12: 1 | BI12: 1 | BJ12: 1 | BK12: 1 | BL12: 1 | BM12: 1 | BN12: 1 | BO12: 1 | BP12: 1 | BQ12: 1 | BR12: 1 | BS12: 1
A13: CTO | B13: - | C13: - | D13: - | E13: - | F13: - | G13: - | H13: - | I13: - | J13: - | K13: - | L13: - | M13: - | N13: - | O13: - | P13: - | Q13: - | R13: - | S13: - | T13: - | U13: - | V13: - | W13: - | X13: - | Y13: - | Z13: - | AA13: - | AB13: - | AC13: - | AD13: 1 | AE13: 1 | AF13: 1 | AG13: 1 | AH13: 1 | AI13: 1 | AJ13: 1 | AK13: 1 | AL13: 1 | AM13: 1 | AN13: 1 | AO13: 1 | AP13: 1 | AQ13: 1 | AR13: 1 | AS13: 1 | AT13: 1 | AU13: 1 | AV13: 1 | AW13: 1 | AX13: 1 | AY13: 1 | AZ13: 1 | BA13: 1 | BB13: 1 | BC13: 1 | BD13: 1 | BE13: 1 | BF13: 1 | BG13: 1 | BH13: 1 | BI13: 1 | BJ13: 1 | BK13: 1 | BL13: 1 | BM13: 1 | BN13: 1 | BO13: 1 | BP13: 1 | BQ13: 1 | BR13: 1 | BS13: 1
A14: Lead Machine language engineer | B14: 1 | C14: 1 | D14: 1 | E14: 1 | F14: 1 | G14: 1 | H14: 1 | I14: 1 | J14: 1 | K14: 1 | L14: 1 | M14: 1 | N14: 1 | O14: 1 | P14: 1 | Q14: 1 | R14: 1 | S14: 1 | T14: 1 | U14: 1 | V14: 1 | W14: 1 | X14: 1 | Y14: 1 | Z14: 1 | AA14: 1 | AB14: 1 | AC14: 1 | AD14: 1 | AE14: 1 | AF14: 1 | AG14: 1 | AH14: 1 | AI14: 1 | AJ14: 1 | AK14: 1 | AL14: 1 | AM14: 1 | AN14: 1 | AO14: 1 | AP14: 1 | AQ14: 1 | AR14: 1 | AS14: 1 | AT14: 1 | AU14: 1 | AV14: 1 | AW14: 1 | AX14: 1 | AY14: 1 | AZ14: 1 | BA14: 1 | BB14: 1 | BC14: 1 | BD14: 1 | BE14: 1 | BF14: 1 | BG14: 1 | BH14: 1 | BI14: 1 | BJ14: 1 | BK14: 1 | BL14: 1 | BM14: 1 | BN14: 1 | BO14: 1 | BP14: 1 | BQ14: 1 | BR14: 1 | BS14: 1
A15: Lead front end full stack developer | B15: 1 | C15: 1 | D15: 1 | E15: 1 | F15: 1 | G15: 1 | H15: 1 | I15: 1 | J15: 1 | K15: 1 | L15: 1 | M15: 1 | N15: 1 | O15: 1 | P15: 1 | Q15: 1 | R15: 1 | S15: 1 | T15: 1 | U15: 1 | V15: 1 | W15: 1 | X15: 1 | Y15: 1 | Z15: 1 | AA15: 1 | AB15: 1 | AC15: 1 | AD15: 1 | AE15: 1 | AF15: 1 | AG15: 1 | AH15: 1 | AI15: 1 | AJ15: 1 | AK15: 1 | AL15: 1 | AM15: 1 | AN15: 1 | AO15: 1 | AP15: 1 | AQ15: 1 | AR15: 1 | AS15: 1 | AT15: 1 | AU15: 1 | AV15: 1 | AW15: 1 | AX15: 1 | AY15: 1 | AZ15: 1 | BA15: 1 | BB15: 1 | BC15: 1 | BD15: 1 | BE15: 1 | BF15: 1 | BG15: 1 | BH15: 1 | BI15: 1 | BJ15: 1 | BK15: 1 | BL15: 1 | BM15: 1 | BN15: 1 | BO15: 1 | BP15: 1 | BQ15: 1 | BR15: 1 | BS15: 1
A16: Senior systems engineer | B16: 1 | C16: 1 | D16: 1 | E16: 1 | F16: 1 | G16: 1 | H16: 1 | I16: 1 | J16: 1 | K16: 1 | L16: 1 | M16: 1 | N16: 1 | O16: 1 | P16: 1 | Q16: 1 | R16: 1 | S16: 1 | T16: 1 | U16: 1 | V16: 1 | W16: 1 | X16: 1 | Y16: 1 | Z16: 1 | AA16: 1 | AB16: 1 | AC16: 1 | AD16: 1 | AE16: 1 | AF16: 1 | AG16: 1 | AH16: 1 | AI16: 1 | AJ16: 1 | AK16: 1 | AL16: 1 | AM16: 1 | AN16: 1 | AO16: 1 | AP16: 1 | AQ16: 1 | AR16: 1 | AS16: 1 | AT16: 1 | AU16: 1 | AV16: 1 | AW16: 1 | AX16: 1 | AY16: 1 | AZ16: 1 | BA16: 1 | BB16: 1 | BC16: 1 | BD16: 1 | BE16: 1 | BF16: 1 | BG16: 1 | BH16: 1 | BI16: 1 | BJ16: 1 | BK16: 1 | BL16: 1 | BM16: 1 | BN16: 1 | BO16: 1 | BP16: 1 | BQ16: 1 | BR16: 1 | BS16: 1
A17: Engineers X1 | B17: 1 | C17: 1 | D17: 1 | E17: 1 | F17: 1 | G17: 1 | H17: 1 | I17: 1 | J17: 1 | K17: 1 | L17: 1 | M17: 1 | N17: 1 | O17: 1 | P17: 1 | Q17: 1 | R17: 1 | S17: 1 | T17: 1 | U17: 1 | V17: 1 | W17: 1 | X17: 1 | Y17: 1 | Z17: 1 | AA17: 1 | AB17: 1 | AC17: 1 | AD17: - | AE17: - | AF17: - | AG17: - | AH17: - | AI17: - | AJ17: - | AK17: 1 | AL17: 1 | AM17: 1 | AN17: 1 | AO17: 1 | AP17: 1 | AQ17: 1 | AR17: 1 | AS17: 1 | AT17: 1 | AU17: 1 | AV17: 1 | AW17: 1 | AX17: 1 | AY17: 1 | AZ17: 1 | BA17: 1 | BB17: 1 | BC17: 1 | BD17: 1 | BE17: 1 | BF17: 1 | BG17: 1 | BH17: 1 | BI17: 1 | BJ17: 1 | BK17: 1 | BL17: 1 | BM17: 1 | BN17: 1 | BO17: 1 | BP17: 1 | BQ17: 1 | BR17: 1 | BS17: 1
A18: Engineers X2 | B18: 1 | C18: 1 | D18: 1 | E18: 1 | F18: 1 | G18: 1 | H18: 1 | I18: 1 | J18: 1 | K18: 1 | L18: 1 | M18: 1 | N18: 1 | O18: 1 | P18: 1 | Q18: 1 | R18: 1 | S18: 1 | T18: 1 | U18: 1 | V18: 1 | W18: 1 | X18: 1 | Y18: 1 | Z18: 1 | AA18: 1 | AB18: - | AC18: - | AD18: - | AE18: - | AF18: - | AG18: - | AH18: - | AI18: - | AJ18: - | AK18: - | AL18: - | AM18: - | AN18: - | AO18: 1 | AP18: 1 | AQ18: 1 | AR18: 1 | AS18: 1 | AT18: 1 | AU18: 1 | AV18: 1 | AW18: 1 | AX18: 1 | AY18: 1 | AZ18: 1 | BA18: 1 | BB18: 1 | BC18: 1 | BD18: 1 | BE18: 1 | BF18: 1 | BG18: 1 | BH18: 1 | BI18: 1 | BJ18: 1 | BK18: 1 | BL18: 1 | BM18: 1 | BN18: 1 | BO18: 1 | BP18: 1 | BQ18: 1 | BR18: 1 | BS18: 1
A19: Engineers X3 | B19: 1 | C19: 1 | D19: 1 | E19: 1 | F19: 1 | G19: 1 | H19: 1 | I19: 1 | J19: 1 | K19: 1 | L19: - | M19: - | N19: 1 | O19: 1 | P19: 1 | Q19: 1 | R19: 1 | S19: 1 | T19: 1 | U19: 1 | V19: 1 | W19: 1 | X19: 1 | Y19: 1 | Z19: 1 | AA19: 1 | AB19: - | AC19: - | AD19: - | AE19: - | AF19: - | AG19: - | AH19: - | AI19: - | AJ19: - | AK19: - | AL19: - | AM19: - | AN19: - | AO19: - | AP19: - | AQ19: - | AR19: - | AS19: - | AT19: - | AU19: - | AV19: - | AW19: - | AX19: - | AY19: - | AZ19: - | BA19: - | BB19: - | BC19: - | BD19: - | BE19: - | BF19: - | BG19: - | BH19: - | BI19: - | BJ19: - | BK19: - | BL19: - | BM19: - | BN19: - | BO19: - | BP19: - | BQ19: - | BR19: - | BS19: -
A20: Engineers X4 | B20: 1 | C20: 1 | D20: 1 | E20: 1 | F20: 1 | G20: 1 | H20: 1 | I20: 1 | J20: 1 | K20: 1 | L20: - | M20: - | N20: - | O20: 1 | P20: 1 | Q20: 1 | R20: 1 | S20: 1 | T20: 1 | U20: 1 | V20: 1 | W20: 1 | X20: 1 | Y20: - | Z20: - | AA20: - | AB20: - | AC20: - | AD20: - | AE20: - | AF20: - | AG20: - | AH20: - | AI20: - | AJ20: - | AK20: - | AL20: - | AM20: - | AN20: - | AO20: - | AP20: - | AQ20: - | AR20: - | AS20: - | AT20: - | AU20: - | AV20: - | AW20: - | AX20: - | AY20: - | AZ20: - | BA20: - | BB20: - | BC20: - | BD20: - | BE20: - | BF20: - | BG20: - | BH20: - | BI20: - | BJ20: - | BK20: - | BL20: - | BM20: - | BN20: - | BO20: - | BP20: - | BQ20: - | BR20: - | BS20: -
A21: Engineers X5 | B21: 1 | C21: 1 | D21: 1 | E21: 1 | F21: 1 | G21: 1 | H21: 1 | I21: 1 | J21: 1 | K21: 1 | L21: - | M21: - | N21: - | O21: - | P21: 1 | Q21: 1 | R21: 1 | S21: 1 | T21: 1 | U21: 1 | V21: 1 | W21: 1 | X21: 1 | Y21: - | Z21: - | AA21: - | AB21: - | AC21: - | AD21: - | AE21: - | AF21: - | AG21: - | AH21: - | AI21: - | AJ21: - | AK21: - | AL21: - | AM21: - | AN21: - | AO21: - | AP21: - | AQ21: - | AR21: - | AS21: - | AT21: - | AU21: - | AV21: - | AW21: - | AX21: - | AY21: - | AZ21: - | BA21: - | BB21: - | BC21: - | BD21: - | BE21: - | BF21: - | BG21: - | BH21: - | BI21: - | BJ21: - | BK21: - | BL21: - | BM21: - | BN21: - | BO21: - | BP21: - | BQ21: - | BR21: - | BS21: -
A22: Engineers X6 | B22: 1 | C22: 1 | D22: 1 | E22: 1 | F22: 1 | G22: 1 | H22: 1 | I22: 1 | J22: 1 | K22: 1 | L22: - | M22: - | N22: - | O22: - | P22: - | Q22: - | R22: - | S22: - | T22: - | U22: - | V22: 1 | W22: 1 | X22: 1 | Y22: - | Z22: - | AA22: - | AB22: - | AC22: - | AD22: - | AE22: - | AF22: - | AG22: - | AH22: - | AI22: - | AJ22: - | AK22: - | AL22: - | AM22: - | AN22: - | AO22: - | AP22: - | AQ22: - | AR22: - | AS22: - | AT22: - | AU22: - | AV22: - | AW22: - | AX22: - | AY22: - | AZ22: - | BA22: - | BB22: - | BC22: - | BD22: - | BE22: - | BF22: - | BG22: - | BH22: - | BI22: - | BJ22: - | BK22: - | BL22: - | BM22: - | BN22: - | BO22: - | BP22: - | BQ22: - | BR22: - | BS22: - | BT22: -
A23: Internal Marketing team X1 | B23: - | C23: - | D23: - | E23: - | F23: - | G23: - | H23: - | I23: - | J23: - | K23: - | L23: - | M23: - | N23: - | O23: - | P23: - | Q23: - | R23: - | S23: - | T23: - | U23: - | V23: - | W23: - | X23: - | Y23: - | Z23: - | AA23: - | AB23: - | AC23: - | AD23: - | AE23: - | AF23: - | AG23: - | AH23: - | AI23: - | AJ23: - | AK23: - | AL23: - | AM23: - | AN23: - | AO23: - | AP23: - | AQ23: - | AR23: - | AS23: - | AT23: - | AU23: - | AV23: - | AW23: - | AX23: - | AY23: - | AZ23: - | BA23: - | BB23: - | BC23: - | BD23: - | BE23: - | BF23: - | BG23: - | BH23: - | BI23: - | BJ23: - | BK23: - | BL23: - | BM23: - | BN23: - | BO23: - | BP23: - | BQ23: - | BR23: - | BS23: -
A24: Internal Marketing team X2 | B24: - | C24: - | D24: - | E24: - | F24: - | G24: - | H24: - | I24: - | J24: - | K24: - | L24: - | M24: - | N24: - | O24: - | P24: - | Q24: - | R24: - | S24: - | T24: - | U24: - | V24: - | W24: - | X24: - | Y24: - | Z24: - | AA24: - | AB24: - | AC24: - | AD24: - | AE24: - | AF24: - | AG24: - | AH24: - | AI24: - | AJ24: - | AK24: - | AL24: - | AM24: - | AN24: - | AO24: - | AP24: - | AQ24: - | AR24: - | AS24: - | AT24: - | AU24: - | AV24: - | AW24: - | AX24: - | AY24: - | AZ24: - | BA24: - | BB24: - | BC24: - | BD24: - | BE24: - | BF24: - | BG24: - | BH24: - | BI24: - | BJ24: - | BK24: - | BL24: - | BM24: - | BN24: - | BO24: - | BP24: - | BQ24: - | BR24: - | BS24: - | BT24: -
A25: Head of Growth Marketing | B25: - | C25: - | D25: - | E25: - | F25: - | G25: - | H25: - | I25: - | J25: - | K25: - | L25: - | M25: - | N25: - | O25: - | P25: - | Q25: - | R25: - | S25: - | T25: - | U25: - | V25: - | W25: - | X25: - | Y25: - | Z25: - | AA25: - | AB25: - | AC25: - | AD25: 1 | AE25: 1 | AF25: 1 | AG25: 1 | AH25: 1 | AI25: 1 | AJ25: 1 | AK25: 1 | AL25: 1 | AM25: 1 | AN25: 1 | AO25: 1 | AP25: 1 | AQ25: 1 | AR25: 1 | AS25: 1 | AT25: 1 | AU25: 1 | AV25: 1 | AW25: 1 | AX25: 1 | AY25: 1 | AZ25: 1 | BA25: 1 | BB25: 1 | BC25: 1 | BD25: 1 | BE25: 1 | BF25: 1 | BG25: 1 | BH25: 1 | BI25: 1 | BJ25: 1 | BK25: 1 | BL25: 1 | BM25: 1 | BN25: 1 | BO25: 1 | BP25: 1 | BQ25: 1 | BR25: 1 | BS25: 1
A26: Sales Team X1 | B26: - | C26: - | D26: - | E26: - | F26: - | G26: - | H26: - | I26: - | J26: - | K26: - | L26: - | M26: - | N26: - | O26: - | P26: - | Q26: - | R26: - | S26: - | T26: - | U26: - | V26: - | W26: - | X26: - | Y26: - | Z26: - | AA26: - | AB26: - | AC26: - | AD26: - | AE26: - | AF26: - | AG26: - | AH26: 1 | AI26: 1 | AJ26: 1 | AK26: 1 | AL26: 1 | AM26: 1 | AN26: 1 | AO26: 1 | AP26: 1 | AQ26: 1 | AR26: 1 | AS26: 1 | AT26: 1 | AU26: 1 | AV26: 1 | AW26: 1 | AX26: 1 | AY26: 1 | AZ26: 1 | BA26: 1 | BB26: 1 | BC26: 1 | BD26: 1 | BE26: 1 | BF26: 1 | BG26: 1 | BH26: 1 | BI26: 1 | BJ26: 1 | BK26: 1 | BL26: 1 | BM26: 1 | BN26: 1 | BO26: 1 | BP26: 1 | BQ26: 1 | BR26: 1 | BS26: 1
A27: Sales Team X2 | B27: - | C27: - | D27: - | E27: - | F27: - | G27: - | H27: - | I27: - | J27: - | K27: - | L27: - | M27: - | N27: - | O27: - | P27: - | Q27: - | R27: - | S27: - | T27: - | U27: - | V27: - | W27: - | X27: - | Y27: - | Z27: - | AA27: - | AB27: - | AC27: - | AD27: - | AE27: - | AF27: - | AG27: - | AH27: 1 | AI27: 1 | AJ27: 1 | AK27: 1 | AL27: 1 | AM27: 1 | AN27: 1 | AO27: 1 | AP27: 1 | AQ27: 1 | AR27: 1 | AS27: 1 | AT27: 1 | AU27: 1 | AV27: 1 | AW27: 1 | AX27: 1 | AY27: 1 | AZ27: 1 | BA27: 1 | BB27: 1 | BC27: 1 | BD27: 1 | BE27: 1 | BF27: 1 | BG27: 1 | BH27: 1 | BI27: 1 | BJ27: 1 | BK27: 1 | BL27: 1 | BM27: 1 | BN27: 1 | BO27: 1 | BP27: 1 | BQ27: 1 | BR27: 1 | BS27: 1
A28: Sales Team X3 | B28: - | C28: - | D28: - | E28: - | F28: - | G28: - | H28: - | I28: - | J28: - | K28: - | L28: - | M28: - | N28: - | O28: - | P28: - | Q28: - | R28: - | S28: - | T28: - | U28: - | V28: - | W28: - | X28: - | Y28: - | Z28: - | AA28: - | AB28: - | AC28: - | AD28: - | AE28: - | AF28: - | AG28: - | AH28: - | AI28: - | AJ28: - | AK28: 1 | AL28: 1 | AM28: 1 | AN28: 1 | AO28: 1 | AP28: 1 | AQ28: 1 | AR28: 1 | AS28: 1 | AT28: 1 | AU28: 1 | AV28: 1 | AW28: 1 | AX28: 1 | AY28: 1 | AZ28: 1 | BA28: 1 | BB28: 1 | BC28: 1 | BD28: 1 | BE28: 1 | BF28: 1 | BG28: 1 | BH28: 1 | BI28: 1 | BJ28: 1 | BK28: 1 | BL28: 1 | BM28: 1 | BN28: 1 | BO28: 1 | BP28: 1 | BQ28: 1 | BR28: 1 | BS28: 1
A29: Sales Team X4 | B29: - | C29: - | D29: - | E29: - | F29: - | G29: - | H29: - | I29: - | J29: - | K29: - | L29: - | M29: - | N29: - | O29: - | P29: - | Q29: - | R29: - | S29: - | T29: - | U29: - | V29: - | W29: - | X29: - | Y29: - | Z29: - | AA29: - | AB29: - | AC29: - | AD29: - | AE29: - | AF29: - | AG29: - | AH29: - | AI29: - | AJ29: - | AK29: - | AL29: - | AM29: - | AN29: - | AO29: 1 | AP29: 1 | AQ29: 1 | AR29: 1 | AS29: 1 | AT29: 1 | AU29: 1 | AV29: 1 | AW29: 1 | AX29: 1 | AY29: 1 | AZ29: 1 | BA29: 1 | BB29: 1 | BC29: 1 | BD29: 1 | BE29: 1 | BF29: 1 | BG29: 1 | BH29: 1 | BI29: 1 | BJ29: 1 | BK29: 1 | BL29: 1 | BM29: 1 | BN29: 1 | BO29: 1 | BP29: 1 | BQ29: 1 | BR29: 1 | BS29: 1
A30: Sales Team X5 | B30: - | C30: - | D30: - | E30: - | F30: - | G30: - | H30: - | I30: - | J30: - | K30: - | L30: - | M30: - | N30: - | O30: - | P30: - | Q30: - | R30: - | S30: - | T30: - | U30: - | V30: - | W30: - | X30: - | Y30: - | Z30: - | AA30: - | AB30: - | AC30: - | AD30: - | AE30: - | AF30: - | AG30: - | AH30: - | AI30: - | AJ30: - | AK30: - | AL30: - | AM30: - | AN30: - | AO30: - | AP30: 1 | AQ30: 1 | AR30: 1 | AS30: 1 | AT30: 1 | AU30: 1 | AV30: 1 | AW30: 1 | AX30: 1 | AY30: 1 | AZ30: 1 | BA30: 1 | BB30: 1 | BC30: 1 | BD30: 1 | BE30: 1 | BF30: 1 | BG30: 1 | BH30: 1 | BI30: 1 | BJ30: 1 | BK30: 1 | BL30: 1 | BM30: 1 | BN30: 1 | BO30: 1 | BP30: 1 | BQ30: 1 | BR30: 1 | BS30: 1
A31: Sales Team X6 | B31: - | C31: - | D31: - | E31: - | F31: - | G31: - | H31: - | I31: - | J31: - | K31: - | L31: - | M31: - | N31: - | O31: - | P31: - | Q31: - | R31: - | S31: - | T31: - | U31: - | V31: - | W31: - | X31: - | Y31: - | Z31: - | AA31: - | AB31: - | AC31: - | AD31: - | AE31: - | AF31: - | AG31: - | AH31: - | AI31: - | AJ31: - | AK31: - | AL31: - | AM31: - | AN31: - | AO31: - | AP31: - | AQ31: - | AR31: - | AS31: - | AT31: - | AU31: - | AV31: 1 | AW31: 1 | AX31: 1 | AY31: 1 | AZ31: 1 | BA31: 1 | BB31: 1 | BC31: 1 | BD31: 1 | BE31: 1 | BF31: 1 | BG31: 1 | BH31: 1 | BI31: 1 | BJ31: 1 | BK31: 1 | BL31: 1 | BM31: 1 | BN31: 1 | BO31: 1 | BP31: 1 | BQ31: 1 | BR31: 1 | BS31: 1
A32: Sales Team X7 | B32: - | C32: - | D32: - | E32: - | F32: - | G32: - | H32: - | I32: - | J32: - | K32: - | L32: - | M32: - | N32: - | O32: - | P32: - | Q32: - | R32: - | S32: - | T32: - | U32: - | V32: - | W32: - | X32: - | Y32: - | Z32: - | AA32: - | AB32: - | AC32: - | AD32: - | AE32: - | AF32: - | AG32: - | AH32: - | AI32: - | AJ32: - | AK32: - | AL32: - | AM32: - | AN32: - | AO32: - | AP32: - | AQ32: - | AR32: - | AS32: - | AT32: - | AU32: - | AV32: - | AW32: - | AX32: 1 | AY32: 1 | AZ32: 1 | BA32: 1 | BB32: 1 | BC32: 1 | BD32: 1 | BE32: 1 | BF32: 1 | BG32: 1 | BH32: 1 | BI32: 1 | BJ32: 1 | BK32: 1 | BL32: 1 | BM32: 1 | BN32: 1 | BO32: 1 | BP32: 1 | BQ32: 1 | BR32: 1 | BS32: 1
B35: 45739 | C35: 45770 | D35: 45800 | E35: 45831 | F35: 45861 | G35: 45892 | H35: 45923 | I35: 45953 | J35: 45984 | K35: 46014 | L35: 45681 | M35: 45712 | N35: 45740 | O35: 45771 | P35: 45801 | Q35: 45832 | R35: 45862 | S35: 45893 | T35: 45924 | U35: 45954 | V35: 45985 | W35: 46015 | X35: 45682 | Y35: 45713 | Z35: 45741 | AA35: 45772 | AB35: 45802 | AC35: 45833 | AD35: 45863 | AE35: 45894 | AF35: 45925 | AG35: 45955 | AH35: 45986 | AI35: 46016 | AJ35: 45683 | AK35: 45714 | AL35: 45742 | AM35: 45773 | AN35: 45803 | AO35: 45834 | AP35: 45864 | AQ35: 45895 | AR35: 45926 | AS35: 45956 | AT35: 45987 | AU35: 46017 | AV35: 45684 | AW35: 45715 | AX35: 45743 | AY35: 45774 | AZ35: 45804 | BA35: 45835 | BB35: 45865 | BC35: 45896 | BD35: 45927 | BE35: 45957 | BF35: 45988 | BG35: 46018 | BH35: 45685 | BI35: 45716 | BJ35: 45744 | BK35: 45775 | BL35: 45805 | BM35: 45836 | BN35: 45866 | BO35: 45897 | BP35: 45928 | BQ35: 45958 | BR35: 45989 | BS35: 46019
A36: Operating Expenses
A37: CEO | B37: - | C37: - | D37: - | E37: - | F37: - | G37: - | H37: - | I37: - | J37: - | K37: - | L37: - | M37: - | N37: - | O37: - | P37: - | Q37: - | R37: - | S37: - | T37: - | U37: - | V37: - | W37: - | X37: - | Y37: - | Z37: - | AA37: - | AB37: - | AC37: - | AD37: 5833 | AE37: 5833 | AF37: 5833 | AG37: 5833 | AH37: 5833 | AI37: 5833 | AJ37: 11500 | AK37: 11500 | AL37: 11500 | AM37: 11500 | AN37: 11500 | AO37: 11500 | AP37: 11500 | AQ37: 11500 | AR37: 11500 | AS37: 11500 | AT37: 11500 | AU37: 11500 | AV37: 13000 | AW37: 13000 | AX37: 13000 | AY37: 13000 | AZ37: 13000 | BA37: 13000 | BB37: 13000 | BC37: 13000 | BD37: 13000 | BE37: 13000 | BF37: 13000 | BG37: 13000 | BH37: 14500 | BI37: 14500 | BJ37: 14500 | BK37: 14500 | BL37: 14500 | BM37: 14500 | BN37: 14500 | BO37: 14500 | BP37: 14500 | BQ37: 14500 | BR37: 14500 | BS37: 14500
A38: CMO | B38: - | C38: - | D38: - | E38: - | F38: - | G38: - | H38: - | I38: - | J38: - | K38: - | L38: - | M38: - | N38: - | O38: - | P38: - | Q38: - | R38: - | S38: - | T38: - | U38: - | V38: - | W38: - | X38: - | Y38: - | Z38: - | AA38: - | AB38: - | AC38: - | AD38: 5833 | AE38: 5833 | AF38: 5833 | AG38: 5833 | AH38: 5833 | AI38: 5833 | AJ38: 5833 | AK38: 5833 | AL38: 5833 | AM38: 5833 | AN38: 5833 | AO38: 5833 | AP38: 8000 | AQ38: 8000 | AR38: 8000 | AS38: 8000 | AT38: 8000 | AU38: 8000 | AV38: 9200 | AW38: 9200 | AX38: 9200 | AY38: 9200 | AZ38: 9200 | BA38: 9200 | BB38: 9200 | BC38: 9200 | BD38: 9200 | BE38: 9200 | BF38: 9200 | BG38: 9200 | BH38: 10400 | BI38: 10400 | BJ38: 10400 | BK38: 10400 | BL38: 10400 | BM38: 10400 | BN38: 10400 | BO38: 10400 | BP38: 10400 | BQ38: 10400 | BR38: 10400 | BS38: 10400
A39: CTO | B39: - | C39: - | D39: - | E39: - | F39: - | G39: - | H39: - | I39: - | J39: - | K39: - | L39: - | M39: - | N39: - | O39: - | P39: - | Q39: - | R39: - | S39: - | T39: - | U39: - | V39: - | W39: - | X39: - | Y39: - | Z39: - | AA39: - | AB39: - | AC39: - | AD39: 5833 | AE39: 5833 | AF39: 5833 | AG39: 5833 | AH39: 5833 | AI39: 5833 | AJ39: 5833 | AK39: 5833 | AL39: 5833 | AM39: 5833 | AN39: 5833 | AO39: 5833 | AP39: 10140 | AQ39: 10140 | AR39: 10140 | AS39: 10140 | AT39: 10140 | AU39: 10140 | AV39: 11310 | AW39: 11310 | AX39: 11310 | AY39: 11310 | AZ39: 11310 | BA39: 11310 | BB39: 11310 | BC39: 11310 | BD39: 11310 | BE39: 11310 | BF39: 11310 | BG39: 11310 | BH39: 12480 | BI39: 12480 | BJ39: 12480 | BK39: 12480 | BL39: 12480 | BM39: 12480 | BN39: 12480 | BO39: 12480 | BP39: 12480 | BQ39: 12480 | BR39: 12480 | BS39: 12480
A40: Lead Machine language engineer | B40: 5250 | C40: 5250 | D40: 5250 | E40: 5250 | F40: 5250 | G40: 5250 | H40: 5250 | I40: 5250 | J40: 5250 | K40: 5250 | L40: 5250 | M40: 5250 | N40: 5250 | O40: 5250 | P40: 5250 | Q40: 5250 | R40: 5250 | S40: 5250 | T40: 5250 | U40: 5250 | V40: 5250 | W40: 5250 | X40: 5250 | Y40: 5250 | Z40: 5250 | AA40: 5250 | AB40: 5250 | AC40: 5250 | AD40: 5250 | AE40: 5250 | AF40: 5250 | AG40: 5250 | AH40: 5250 | AI40: 5250 | AJ40: 8750 | AK40: 8750 | AL40: 8750 | AM40: 8750 | AN40: 8750 | AO40: 8750 | AP40: 8750 | AQ40: 8750 | AR40: 8750 | AS40: 8750 | AT40: 8750 | AU40: 8750 | AV40: 10063 | AW40: 10063 | AX40: 10063 | AY40: 10063 | AZ40: 10063 | BA40: 10063 | BB40: 10063 | BC40: 10063 | BD40: 10063 | BE40: 10063 | BF40: 10063 | BG40: 10063 | BH40: 11375 | BI40: 11375 | BJ40: 11375 | BK40: 11375 | BL40: 11375 | BM40: 11375 | BN40: 11375 | BO40: 11375 | BP40: 11375 | BQ40: 11375 | BR40: 11375 | BS40: 11375
A41: Lead front end full stack developer | B41: 5250 | C41: 5250 | D41: 5250 | E41: 5250 | F41: 5250 | G41: 5250 | H41: 5250 | I41: 5250 | J41: 5250 | K41: 5250 | L41: 5250 | M41: 5250 | N41: 5250 | O41: 5250 | P41: 5250 | Q41: 5250 | R41: 5250 | S41: 5250 | T41: 5250 | U41: 5250 | V41: 5250 | W41: 5250 | X41: 5250 | Y41: 5250 | Z41: 5250 | AA41: 8750 | AB41: 8750 | AC41: 8750 | AD41: 8750 | AE41: 8750 | AF41: 8750 | AG41: 8750 | AH41: 8750 | AI41: 8750 | AJ41: 10063 | AK41: 10063 | AL41: 10063 | AM41: 10063 | AN41: 10063 | AO41: 10063 | AP41: 10063 | AQ41: 10063 | AR41: 10063 | AS41: 10063 | AT41: 10063 | AU41: 10063 | AV41: 11375 | AW41: 11375 | AX41: 11375 | AY41: 11375 | AZ41: 11375 | BA41: 11375 | BB41: 11375 | BC41: 11375 | BD41: 11375 | BE41: 11375 | BF41: 11375 | BG41: 11375 | BH41: 12688 | BI41: 12688 | BJ41: 12688 | BK41: 12688 | BL41: 12688 | BM41: 12688 | BN41: 12688 | BO41: 12688 | BP41: 12688 | BQ41: 12688 | BR41: 12688 | BS41: 12688
A42: Senior systems engineer | B42: 5250 | C42: 5250 | D42: 5250 | E42: 5250 | F42: 5250 | G42: 5250 | H42: 5250 | I42: 5250 | J42: 5250 | K42: 5250 | L42: 5250 | M42: 5250 | N42: 5250 | O42: 5250 | P42: 5250 | Q42: 5250 | R42: 5250 | S42: 5250 | T42: 5250 | U42: 5250 | V42: 5250 | W42: 5250 | X42: 5250 | Y42: 5250 | Z42: 5250 | AA42: 8750 | AB42: 8750 | AC42: 8750 | AD42: 8750 | AE42: 8750 | AF42: 8750 | AG42: 8750 | AH42: 8750 | AI42: 8750 | AJ42: 10063 | AK42: 10063 | AL42: 10063 | AM42: 10063 | AN42: 10063 | AO42: 10063 | AP42: 10063 | AQ42: 10063 | AR42: 10063 | AS42: 10063 | AT42: 10063 | AU42: 10063 | AV42: 11375 | AW42: 11375 | AX42: 11375 | AY42: 11375 | AZ42: 11375 | BA42: 11375 | BB42: 11375 | BC42: 11375 | BD42: 11375 | BE42: 11375 | BF42: 11375 | BG42: 11375 | BH42: 12688 | BI42: 12688 | BJ42: 12688 | BK42: 12688 | BL42: 12688 | BM42: 12688 | BN42: 12688 | BO42: 12688 | BP42: 12688 | BQ42: 12688 | BR42: 12688 | BS42: 12688
A43: Engineers X1 | B43: 4250 | C43: 4250 | D43: 4250 | E43: 4250 | F43: 4250 | G43: 4250 | H43: 4250 | I43: 4250 | J43: 4250 | K43: 4250 | L43: 4250 | M43: 4250 | N43: 4250 | O43: 4250 | P43: 4250 | Q43: 4250 | R43: 4250 | S43: 4250 | T43: 4250 | U43: 4250 | V43: 4250 | W43: 4250 | X43: 4250 | Y43: 4250 | Z43: 4250 | AA43: 7083 | AB43: 7083 | AC43: 7083 | AD43: - | AE43: - | AF43: - | AG43: - | AH43: - | AI43: - | AJ43: - | AK43: 8146 | AL43: 8146 | AM43: 8146 | AN43: 8146 | AO43: 8146 | AP43: 8146 | AQ43: 8146 | AR43: 8146 | AS43: 8146 | AT43: 8146 | AU43: 8146 | AV43: 9208 | AW43: 9208 | AX43: 9208 | AY43: 9208 | AZ43: 9208 | BA43: 9208 | BB43: 9208 | BC43: 9208 | BD43: 9208 | BE43: 9208 | BF43: 9208 | BG43: 9208 | BH43: 10271 | BI43: 10271 | BJ43: 10271 | BK43: 10271 | BL43: 10271 | BM43: 10271 | BN43: 10271 | BO43: 10271 | BP43: 10271 | BQ43: 10271 | BR43: 10271 | BS43: 10271
A44: Engineers X2 | B44: 4250 | C44: 4250 | D44: 4250 | E44: 4250 | F44: 4250 | G44: 4250 | H44: 4250 | I44: 4250 | J44: 4250 | K44: 4250 | L44: 4250 | M44: 4250 | N44: 4250 | O44: 4250 | P44: 4250 | Q44: 4250 | R44: 4250 | S44: 4250 | T44: 4250 | U44: 4250 | V44: 4250 | W44: 4250 | X44: 4250 | Y44: 4250 | Z44: 4250 | AA44: 7083 | AB44: - | AC44: - | AD44: - | AE44: - | AF44: - | AG44: - | AH44: - | AI44: - | AJ44: - | AK44: - | AL44: - | AM44: - | AN44: - | AO44: 8146 | AP44: 8146 | AQ44: 8146 | AR44: 8146 | AS44: 8146 | AT44: 8146 | AU44: 8146 | AV44: 9208 | AW44: 9208 | AX44: 9208 | AY44: 9208 | AZ44: 9208 | BA44: 9208 | BB44: 9208 | BC44: 9208 | BD44: 9208 | BE44: 9208 | BF44: 9208 | BG44: 9208 | BH44: 10271 | BI44: 10271 | BJ44: 10271 | BK44: 10271 | BL44: 10271 | BM44: 10271 | BN44: 10271 | BO44: 10271 | BP44: 10271 | BQ44: 10271 | BR44: 10271 | BS44: 10271
A45: Engineers X3 | B45: 4250 | C45: 4250 | D45: 4250 | E45: 4250 | F45: 4250 | G45: 4250 | H45: 4250 | I45: 4250 | J45: 4250 | K45: 4250 | L45: - | M45: - | N45: 4250 | O45: 4250 | P45: 4250 | Q45: 4250 | R45: 4250 | S45: 4250 | T45: 4250 | U45: 4250 | V45: 4250 | W45: 4250 | X45: 4250 | Y45: 4250 | Z45: 4250 | AA45: 7083 | AB45: - | AC45: - | AD45: - | AE45: - | AF45: - | AG45: - | AH45: - | AI45: - | AJ45: - | AK45: - | AL45: - | AM45: - | AN45: - | AO45: - | AP45: - | AQ45: - | AR45: - | AS45: - | AT45: - | AU45: - | AV45: - | AW45: - | AX45: - | AY45: - | AZ45: - | BA45: - | BB45: - | BC45: - | BD45: - | BE45: - | BF45: - | BG45: - | BH45: - | BI45: - | BJ45: - | BK45: - | BL45: - | BM45: - | BN45: - | BO45: - | BP45: - | BQ45: - | BR45: - | BS45: -
A46: Engineers X4 | B46: 4250 | C46: 4250 | D46: 4250 | E46: 4250 | F46: 4250 | G46: 4250 | H46: 4250 | I46: 4250 | J46: 4250 | K46: 4250 | L46: - | M46: - | N46: - | O46: 4250 | P46: 4250 | Q46: 4250 | R46: 4250 | S46: 4250 | T46: 4250 | U46: 4250 | V46: 4250 | W46: 4250 | X46: 8146 | Y46: - | Z46: - | AA46: - | AB46: - | AC46: - | AD46: - | AE46: - | AF46: - | AG46: - | AH46: - | AI46: - | AJ46: - | AK46: - | AL46: - | AM46: - | AN46: - | AO46: - | AP46: - | AQ46: - | AR46: - | AS46: - | AT46: - | AU46: - | AV46: - | AW46: - | AX46: - | AY46: - | AZ46: - | BA46: - | BB46: - | BC46: - | BD46: - | BE46: - | BF46: - | BG46: - | BH46: - | BI46: - | BJ46: - | BK46: - | BL46: - | BM46: - | BN46: - | BO46: - | BP46: - | BQ46: - | BR46: - | BS46: -
A47: Engineers X5 | B47: 4250 | C47: 4250 | D47: 4250 | E47: 4250 | F47: 4250 | G47: 4250 | H47: 4250 | I47: 4250 | J47: 4250 | K47: 4250 | L47: - | M47: - | N47: - | O47: - | P47: 4250 | Q47: 4250 | R47: 4250 | S47: 4250 | T47: 4250 | U47: 4250 | V47: 4250 | W47: 4250 | X47: 8146 | Y47: - | Z47: - | AA47: - | AB47: - | AC47: - | AD47: - | AE47: - | AF47: - | AG47: - | AH47: - | AI47: - | AJ47: - | AK47: - | AL47: - | AM47: - | AN47: - | AO47: - | AP47: - | AQ47: - | AR47: - | AS47: - | AT47: - | AU47: - | AV47: - | AW47: - | AX47: - | AY47: - | AZ47: - | BA47: - | BB47: - | BC47: - | BD47: - | BE47: - | BF47: - | BG47: - | BH47: - | BI47: - | BJ47: - | BK47: - | BL47: - | BM47: - | BN47: - | BO47: - | BP47: - | BQ47: - | BR47: - | BS47: -
A48: Engineers X6 | B48: 4250 | C48: 4250 | D48: 4250 | E48: 4250 | F48: 4250 | G48: 4250 | H48: 4250 | I48: 4250 | J48: 4250 | K48: 4250 | L48: - | M48: - | N48: - | O48: - | P48: - | Q48: - | R48: - | S48: - | T48: - | U48: - | V48: 4250 | W48: 4250 | X48: 8146 | Y48: - | Z48: - | AA48: - | AB48: - | AC48: - | AD48: - | AE48: - | AF48: - | AG48: - | AH48: - | AI48: - | AJ48: - | AK48: - | AL48: - | AM48: - | AN48: - | AO48: - | AP48: - | AQ48: - | AR48: - | AS48: - | AT48: - | AU48: - | AV48: - | AW48: - | AX48: - | AY48: - | AZ48: - | BA48: - | BB48: - | BC48: - | BD48: - | BE48: - | BF48: - | BG48: - | BH48: - | BI48: - | BJ48: - | BK48: - | BL48: - | BM48: - | BN48: - | BO48: - | BP48: - | BQ48: - | BR48: - | BS48: -
...

Sheet P&L, BS, CF 2023
B3: 45739 | C3: 45770 | D3: 45800 | E3: 45831 | F3: 45861 | G3: 45892 | H3: 45923 | I3: 45953 | J3: 45984 | K3: 46014
A4: INCOME STATEMENT
A6: No. of Active Users | B6: - | C6: - | D6: - | E6: - | F6: - | G6: - | H6: - | I6: - | J6: - | K6: - | M6: *Completed/Actual
A8: Revenue | B8: - | C8: - | D8: - | E8: - | F8: - | G8: - | H8: - | I8: - | J8: - | K8: -
A10: Gross Revenue | B10: - | C10: - | D10: - | E10: - | F10: - | G10: - | H10: - | I10: - | J10: - | K10: -
A12: cost OF SALES
A14: Cloud Hosting | B14: - | C14: - | D14: - | E14: - | F14: - | G14: - | H14: - | I14: - | J14: - | K14: -
A15: Credit Card Fee | B15: - | C15: - | D15: - | E15: - | F15: - | G15: - | H15: - | I15: - | J15: - | K15: -
A16: Computing cost | B16: - | C16: - | D16: - | E16: - | F16: - | G16: - | H16: - | I16: - | J16: - | K16: -
