Workbook

Sheet Acquisition Summary
C2: Acquisition consideration and value contribution
C3: Historical portfolio analysis; original dates, assumptions and units retained
C4: Author: Eshan Mukherjee
C8: Illustrative transaction cases
C9: Case | D9: Offer value | E9: Target gain | F9: Buyer gain
C10: Mixed consideration example | D10: =Sheet1!C30 -> 487.2768 | E10: =Sheet1!C32 -> 157.2768 | F10: Not separately reported
C11: Railroad combination example | D11: =Sheet1!C49 -> 76317.62 | E11: =Sheet1!C51 -> 16427.62 | F11: =Sheet1!C53 -> 8251.8672
C12: Online-travel acquisition example | D12: =Sheet1!C66 -> 414 | E12: =Sheet1!C68 -> 7370 | F12: =Sheet1!C70 -> 7630
C17: Original case calculations and units are retained. The cases use different consideration structures and are not a single transaction.
C23: Online-travel offer assumptions
C25: Buyer unaffected price | D25: =Sheet1!C57 -> 5275
C26: Target unaffected price | D26: =Sheet1!D57 -> 225
C27: Offer price per target share | D27: =Sheet1!D58 -> 280
C28: Target shares, millions | D28: =Sheet1!D59 -> 134
C29: Annual pretax synergies | D29: =Sheet1!E61 -> 1800
C30: Tax rate | D30: =Sheet1!E62 -> 0.25
C31: Discount rate | D31: =Sheet1!E63 -> 0.09
C34: Offer premium | D34: =D27/D26-1 -> 0.24444444
C39: This view presents the original outputs. It does not revise historical exercises or assert that a combination occurred.

Sheet Sheet1
A1: •Pc = Vb +Vs +syn-cash/ ( buyer sh pre t + buyer new sh issued )
C2: Buyer | D2: Target | E2: Combined
B3: Pre-announce stock price | C3: 30 | D3: 22
B4: Shares outstanding (million) | C4: 40 | D4: 15
B5: Market value, stand alone ($ million) | C5: 1200 | D5: 330
B6: Synergy (present value, $ million) | E6: 250
B7: (Assume synergies are increased from 170 to 250)
C10: Buyer | D10: Target | E10: Combined
B11: Pre-announce stock price | C11: 30 | D11: 22
B12: B’s Offer Price for T (40%) | D12: 30.8 | G12: •Pc = Vb +Vs +syn-cash/ ( buyer sh pre t + buyer new sh issued )
B13: Shares outstanding (million) | C13: 40 | D13: 15
B14: Market value, stand alone ($ million) | C14: 1200 | D14: 330
B15: Synergy (present value, $ million) | E15: 170
A17: •Pc = Vb +Vs +syn-cash/ ( buyer sh pre t + buyer new sh issued )
B20: $15 Cash plus 0.541 (of B) per Share of T
C21: Buyer | D21: Target | E21: Combined
B22: Pre-announce stock price | C22: 30 | D22: 22
B23: Shares outstanding (million) | C23: 40 | D23: 15
B24: Market value, stand alone ($ million) | C24: 1200 | D24: 330
B25: Synergy (present value, $ million) | E25: 250
B26: (Assume synergies are increased from 170 to 250)
B28: PC | C28: =(1200+330+250-225)/(C23+0.541*15) -> 32.318404
B30: Offer to target | C30: =225+(32.32*0.541*15) -> 487.2768
B32: Premium | C32: =C30-330 -> 157.2768
B36: $88.82 Cash | C36: 1.0 share of Railroad Acquirer per Share of Railroad Target
C37: Buyer: Railroad Acquirer, Railroad Acquirer | D37: Target: Norfolk Southern, Railroad Target | E37: Combined
B38: Pre-announce stock price (per share) | C38: 235 | D38: 265
B39: Shares outstanding (million) | C39: 594.8 | D39: 226
B40: Market value, stand alone ($ million) | C40: 139778 | D40: 59890
B41: Synergy (present value, $ million) | E41: =2.75*(1-0.3)/0.078 -> 24.679487
B42: (Pre-tax synergies of $2.75 billion per year with tax rate of 30% and WACC 7.8% )
B44: Synergy | C44: =E41*1000 -> 24679.487
B47: PC | C47: =((C40+D40+(E41*1000)-20073))/(C39+D39) -> 248.87243
B49: Offer to target | C49: =20073+(226*248.87) -> 76317.62
B51: Premium | C51: =C49-D40 -> 16427.62
B53: Buyers gain or loss | C53: =C44-C51 -> 8251.8672
B55: Cash | C55: 280
C56: Online Travel Acquirer | D56: Online Travel Target | E56: Combined
B57: Pre-announce stock price | C57: 5275 | D57: 225
B58: Online Travel Acquirer’s Offer for Online Travel Target (24% premium) | D58: 280
...
